Workbook

Sheet INTRO
E1: =DFIE!$B$10 -> Eidgenössisches Finanzdepartement EFD
E2: =DFIE!$B$11 -> Eidgenössische Finanzverwaltung EFV
B7: Wählen Sie Ihre Sprache
B8: Choisissez votre langue
B9: Selezionare la vostra lingua
B10: Choose your language
B13: =DFIE!$B$12 -> Finanzausgleich zwischen Bund und Kantonen
B14: =DFIE!$B$13 -> Lastenausgleich 2027
B17: TOTAL | C17: =DFIE!$B$14 -> Übersicht über die Zahlungen im Lastenausgleich
B19: DOT | C19: =DFIE!$B$15 -> Berechnung der Dotationen im Lastenausgleich
B20: GLA 1 | C20: =DFIE!$B$16 -> Daten geografischer Lastenausgleich
B21: GLA 2 | C21: =DFIE!$B$17 -> Zahlungen geografischer Lastenausgleich
B22: SLA.AC 1 | C22: =DFIE!$B$18 -> Daten soziodemografischer Lastenausgleich A-C
B23: SLA.AC 2 | C23: =DFIE!$B$19 -> Zahlungen soziodemografischer Lastenausgleich A-C
B24: SLA.F 1 | C24: =DFIE!$B$20 -> Daten soziodemografischer Lastenausgleich F
B25: SLA.F 2 | C25: =DFIE!$B$21 -> Zahlungen soziodemografischer Lastenausgleich F
C41: =DFIE!$B$62 -> Referenzjahr | D41: 2027
C42: =DFIE!$B$63 -> Berechnungsdatum | D42: 05.05.2026
C43: =DFIE!$B$64 -> Berechnungs-ID | D43: FA-2027-260505085936

Sheet TOTAL
B2: =DFIE!$B$65 -> Zahlungen im
B3: =DFIE!$B$66 -> Lastenausgleich 2027
B6: =DFIE!$B$67 -> Auszahlungen in CHF
C7: =DFIE!$B$68 -> Geografisch- topografischer Lastenausgleich | D7: =DFIE!$B$70 -> Soziodemografischer Lastenausgleich | E7: =DFIE!$B$71 -> SLA A-C | F7: =DFIE!$B$61 -> Total
C8: =DFIE!$B$69 -> GLA | D8: =DFIE!$B$71 -> SLA A-C | E8: =DFIE!$B$72 -> SLA F
B9: =DFIE!$B$22 -> Zürich | C9: ='GLA-2'!G9 -> 0 | D9: ='SLA.AC-2'!N9 -> 18031925 | E9: ='SLA.F-2'!G9 -> 99388672 | F9: =SUM(C9:E9) -> 1.174206e+08
B10: =DFIE!$B$23 -> Bern | C10: ='GLA-2'!G10 -> 31386862 | D10: ='SLA.AC-2'!N10 -> 0 | E10: ='SLA.F-2'!G10 -> 0 | F10: =SUM(C10:E10) -> 31386862
B11: =DFIE!$B$24 -> Luzern | C11: ='GLA-2'!G11 -> 5726078.6 | D11: ='SLA.AC-2'!N11 -> 0 | E11: ='SLA.F-2'!G11 -> 0 | F11: =SUM(C11:E11) -> 5726078.6
B12: =DFIE!$B$25 -> Uri | C12: ='GLA-2'!G12 -> 12469353 | D12: ='SLA.AC-2'!N12 -> 0 | E12: ='SLA.F-2'!G12 -> 0 | F12: =SUM(C12:E12) -> 12469353
B13: =DFIE!$B$26 -> Schwyz | C13: ='GLA-2'!G13 -> 7484687 | D13: ='SLA.AC-2'!N13 -> 0 | E13: ='SLA.F-2'!G13 -> 0 | F13: =SUM(C13:E13) -> 7484687
B14: =DFIE!$B$27 -> Obwalden | C14: ='GLA-2'!G14 -> 6724205.7 | D14: ='SLA.AC-2'!N14 -> 0 | E14: ='SLA.F-2'!G14 -> 0 | F14: =SUM(C14:E14) -> 6724205.7
B15: =DFIE!$B$28 -> Nidwalden | C15: ='GLA-2'!G15 -> 1596026.4 | D15: ='SLA.AC-2'!N15 -> 0 | E15: ='SLA.F-2'!G15 -> 0 | F15: =SUM(C15:E15) -> 1596026.4
B16: =DFIE!$B$29 -> Glarus | C16: ='GLA-2'!G16 -> 5754260.9 | D16: ='SLA.AC-2'!N16 -> 0 | E16: ='SLA.F-2'!G16 -> 0 | F16: =SUM(C16:E16) -> 5754260.9
B17: =DFIE!$B$30 -> Zug | C17: ='GLA-2'!G17 -> 0 | D17: ='SLA.AC-2'!N17 -> 2028768.2 | E17: ='SLA.F-2'!G17 -> 51154.218 | F17: =SUM(C17:E17) -> 2079922.4
B18: =DFIE!$B$31 -> Freiburg | C18: ='GLA-2'!G18 -> 8828393.5 | D18: ='SLA.AC-2'!N18 -> 0 | E18: ='SLA.F-2'!G18 -> 0 | F18: =SUM(C18:E18) -> 8828393.5
B19: =DFIE!$B$32 -> Solothurn | C19: ='GLA-2'!G19 -> 0 | D19: ='SLA.AC-2'!N19 -> 13195067 | E19: ='SLA.F-2'!G19 -> 0 | F19: =SUM(C19:E19) -> 13195067
B20: =DFIE!$B$33 -> Basel-Stadt | C20: ='GLA-2'!G20 -> 0 | D20: ='SLA.AC-2'!N20 -> 42345753 | E20: ='SLA.F-2'!G20 -> 24501406 | F20: =SUM(C20:E20) -> 66847160
B21: =DFIE!$B$34 -> Basel-Landschaft | C21: ='GLA-2'!G21 -> 0 | D21: ='SLA.AC-2'!N21 -> 0 | E21: ='SLA.F-2'!G21 -> 0 | F21: =SUM(C21:E21) -> 0
B22: =DFIE!$B$35 -> Schaffhausen | C22: ='GLA-2'!G22 -> 0 | D22: ='SLA.AC-2'!N22 -> 876873.53 | E22: ='SLA.F-2'!G22 -> 0 | F22: =SUM(C22:E22) -> 876873.53
B23: =DFIE!$B$36 -> Appenzell A.Rh. | C23: ='GLA-2'!G23 -> 22330643 | D23: ='SLA.AC-2'!N23 -> 0 | E23: ='SLA.F-2'!G23 -> 0 | F23: =SUM(C23:E23) -> 22330643
B24: =DFIE!$B$37 -> Appenzell I.Rh. | C24: ='GLA-2'!G24 -> 9077330.8 | D24: ='SLA.AC-2'!N24 -> 0 | E24: ='SLA.F-2'!G24 -> 0 | F24: =SUM(C24:E24) -> 9077330.8
B25: =DFIE!$B$38 -> St. Gallen | C25: ='GLA-2'!G25 -> 2112609.6 | D25: ='SLA.AC-2'!N25 -> 0 | E25: ='SLA.F-2'!G25 -> 0 | F25: =SUM(C25:E25) -> 2112609.6
B26: =DFIE!$B$39 -> Graubünden | C26: ='GLA-2'!G26 -> 1.4559905e+08 | D26: ='SLA.AC-2'!N26 -> 0 | E26: ='SLA.F-2'!G26 -> 0 | F26: =SUM(C26:E26) -> 1.4559905e+08
B27: =DFIE!$B$40 -> Aargau | C27: ='GLA-2'!G27 -> 0 | D27: ='SLA.AC-2'!N27 -> 0 | E27: ='SLA.F-2'!G27 -> 0 | F27: =SUM(C27:E27) -> 0
B28: =DFIE!$B$41 -> Thurgau | C28: ='GLA-2'!G28 -> 3462113.3 | D28: ='SLA.AC-2'!N28 -> 0 | E28: ='SLA.F-2'!G28 -> 0 | F28: =SUM(C28:E28) -> 3462113.3
B29: =DFIE!$B$42 -> Tessin | C29: ='GLA-2'!G29 -> 15878305 | D29: ='SLA.AC-2'!N29 -> 5154186.6 | E29: ='SLA.F-2'!G29 -> 0 | F29: =SUM(C29:E29) -> 21032492
B30: =DFIE!$B$43 -> Waadt | C30: ='GLA-2'!G30 -> 158566.51 | D30: ='SLA.AC-2'!N30 -> 1.1301247e+08 | E30: ='SLA.F-2'!G30 -> 5324492.8 | F30: =SUM(C30:E30) -> 1.1849553e+08
B31: =DFIE!$B$44 -> Wallis | C31: ='GLA-2'!G31 -> 79726053 | D31: ='SLA.AC-2'!N31 -> 16928129 | E31: ='SLA.F-2'!G31 -> 0 | F31: =SUM(C31:E31) -> 96654182
B32: =DFIE!$B$45 -> Neuenburg | C32: ='GLA-2'!G32 -> 24056040 | D32: ='SLA.AC-2'!N32 -> 10897986 | E32: ='SLA.F-2'!G32 -> 0 | F32: =SUM(C32:E32) -> 34954027
B33: =DFIE!$B$46 -> Genf | C33: ='GLA-2'!G33 -> 0 | D33: ='SLA.AC-2'!N33 -> 1.2933741e+08 | E33: ='SLA.F-2'!G33 -> 46638561 | F33: =SUM(C33:E33) -> 1.7597597e+08
B34: =DFIE!$B$47 -> Jura | C34: ='GLA-2'!G34 -> 5342277.8 | D34: ='SLA.AC-2'!N34 -> 0 | E34: ='SLA.F-2'!G34 -> 0 | F34: =SUM(C34:E34) -> 5342277.8
B35: =DFIE!$B$48 -> Schweiz | C35: =SUM(C9:C34) -> 3.8771286e+08 | D35: =SUM(D9:D34) -> 3.5180857e+08 | E35: =SUM(E9:E34) -> 1.7590429e+08 | F35: =SUM(F9:F34) -> 9.1542571e+08
B36: =DFIE!$B$73 -> Die Berechnung des Lastenausgleichs wird im Technischen Bericht detailliert beschrieben: www.efv.admin.ch → Themen → Finanzausgleich → Dokumentation

Sheet DOT
B1: =DFIE!$B$74 -> Berechnung der Dotationen im Lastenausgleich 2027
B7: =DFIE!$B$75 -> in CHF
D8: =DFIE!$B$76 -> Geografisch-topografischer Lastenausgleich (GLA) | H8: =DFIE!$B$77 -> Soziodemografischer Lastenausgleich (SLA) | J8: =DFIE!$B$78 -> Lastenausgleich Total
B9: =DFIE!$B$79 -> Ordentliche Dotation 2026 | G9: 3.8540045e+08 | I9: 3.8540045e+08 | J9: =G9+I9 -> 7.7080091e+08
B10: =DFIE!$B$80 -> + Teuerung (LIK 04/2026) | C10: 0.006 | D10: 04/2026 | G10: =G9*$C$10 -> 2312402.7 | I10: =I9*$C$10 -> 2312402.7 | J10: =G10+I10 -> 4624805.4
B11: =DFIE!$B$81 -> + Anpassung Dotation | G11: 0 | I11: 0 | J11: =G11+I11 -> 0
B12: =DFIE!$B$82 -> Ordentliche Dotation 2027 | G12: =SUM(G9:G11) -> 3.8771286e+08 | I12: =SUM(I9:I11) -> 3.8771286e+08 | J12: =SUM(J9:J11) -> 7.7542571e+08
B13: =DFIE!$B$83 -> Erhöhung gemäss Art. 9 Abs. 2bis FiLaG | G13: 0 | I13: 140000000 | J13: =G13+I13 -> 140000000
B14: =DFIE!$B$84 -> Dotation 2027 | G14: =SUM(G12:G13) -> 3.8771286e+08 | I14: =SUM(I12:I13) -> 5.2771286e+08 | J14: =SUM(J12:J13) -> 9.1542571e+08
B16: =DFIE!$B$91 -> Teilausgleiche | D16: =DFIE!$B$85 -> GLA 1 | E16: =DFIE!$B$86 -> GLA 2 | F16: =DFIE!$B$87 -> GLA 3 | G16: =DFIE!$B$88 -> GLA 4 | H16: =DFIE!$B$89 -> SLA A-C | I16: =DFIE!$B$90 -> SLA F
B17: =DFIE!$B$92 -> Anteil | D17: 0.33333333 | E17: 0.33333333 | F17: 0.16666667 | G17: 0.16666667 | H17: 0.66666667 | I17: 0.33333333
B18: =DFIE!$B$84 -> Dotation 2027 | D18: =$G$14*D17 -> 1.2923762e+08 | E18: =$G$14*E17 -> 1.2923762e+08 | F18: =$G$14*F17 -> 64618809 | G18: =$G$14*G17 -> 64618809 | H18: =$I$14*H17 -> 3.5180857e+08 | I18: =$I$14*I17 -> 1.7590429e+08 | J18: =SUM(D18:I18) -> 9.1542571e+08

Sheet GLA-1
B1: =DFIE!$B$93 -> GLA 1 (Siedlungshöhe) | J1: =DFIE!$B$95 -> GLA 2 (Steilheit des Geländes)
H3: =DFIE!$B$94 -> Indikator = Anteil der Wohnbevölkerung mit einer Wohnhöhe von über 800 m | P3: =DFIE!$B$96 -> Indikator = Medianhöhe der produktiven Fläche
B4: =DFIE!$B$49 -> Spalte | C4: C | D4: D | E4: E | F4: F | G4: G | H4: H | J4: =DFIE!$B$49 -> Spalte | K4: K | L4: L | M4: M | N4: N | O4: O | P4: P
B5: =DFIE!$B$50 -> Formel | E5: C / D | F5: =DFIE!$B$114 -> E / E[Schweiz] | G5: (F - 100) * C | H5: =DFIE!$B$115 -> G / G[Schweiz] * Dotation | J5: =DFIE!$B$50 -> Formel | M5: L | N5: =DFIE!$B$116 -> M / M[Schweiz] | O5: (N - 100) * K | P5: =DFIE!$B$117 -> O / O[Schweiz] * Dotation
C6: =DFIE!$B$101 -> Ständige Wohnbev. mit einer Wohnhöhe von über 800 m.ü.M. | D6: =DFIE!$B$102 -> Ständige Wohn- bevölkerung | E6: =DFIE!$B$103 -> Indikator | F6: =DFIE!$B$104 -> Lastenindex | G6: =DFIE!$B$105 -> Massgebende Sonderlasten | H6: =DFIE!$B$106 -> Auszahlung GLA 1 | K6: =DFIE!$B$107 -> Produktive Fläche | L6: =DFIE!$B$108 -> Höhenmedian produktive Fläche | M6: =DFIE!$B$103 -> Indikator | N6: =DFIE!$B$104 -> Lastenindex | O6: =DFIE!$B$105 -> Massgebende Sonderlasten | P6: =DFIE!$B$109 -> Auszahlung GLA 2
B7: =DFIE!$B$51 -> Erhebungsjahr | C7: 2024 | D7: 2024 | J7: =DFIE!$B$51 -> Erhebungsjahr | K7: 2024 | L7: 2024
B8: =DFIE!$B$52 -> Einheit | C8: =DFIE!$B$56 -> Anzahl | D8: =DFIE!$B$56 -> Anzahl | E8: =DFIE!$B$58 -> Prozent | F8: =DFIE!$B$57 -> Punkte | H8: =DFIE!$B$54 -> CHF | J8: =DFIE!$B$52 -> Einheit | K8: =DFIE!$B$59 -> Hektaren | L8: =DFIE!$B$60 -> Meter ü. M. | M8: =DFIE!$B$60 -> Meter ü. M. | N8: =DFIE!$B$57 -> Punkte | P8: =DFIE!$B$54 -> CHF
B9: =DFIE!$B$22 -> Zürich | C9: 2112 | D9: 1620020 | E9: =C9/D9 -> 0.0013036876 | F9: =E9/E$35*100 -> 1.9075363 | G9: =MAX((F9-100)*C9,0) -> 0 | H9: =G9/G$35*DOT!$D$18 -> 0 | J9: =DFIE!$B$22 -> Zürich | K9: 162172 | L9: 511 | M9: =L9 -> 511 | N9: =M9/M$35*100 -> 59.55711 | O9: =MAX((N9-100)*K9,0) -> 0 | P9: =O9/O$35*DOT!$E$18 -> 0
B10: =DFIE!$B$23 -> Bern | C10: 93903 | D10: 1071216 | E10: =C10/D10 -> 0.087660192 | F10: =E10/E$35*100 -> 128.26309 | G10: =MAX((F10-100)*C10,0) -> 2653988.7 | H10: =G10/G$35*DOT!$D$18 -> 2044477.1 | J10: =DFIE!$B$23 -> Bern | K10: 482688 | L10: 873 | M10: =L10 -> 873 | N10: =M10/M$35*100 -> 101.74825 | O10: =MAX((N10-100)*K10,0) -> 843860.14 | P10: =O10/O$35*DOT!$E$18 -> 1257234.4
B11: =DFIE!$B$24 -> Luzern | C11: 12498 | D11: 437944 | E11: =C11/D11 -> 0.028537895 | F11: =E11/E$35*100 -> 41.756223 | G11: =MAX((F11-100)*C11,0) -> 0 | H11: =G11/G$35*DOT!$D$18 -> 0 | J11: =DFIE!$B$24 -> Luzern | K11: 139373 | L11: 690 | M11: =L11 -> 690 | N11: =M11/M$35*100 -> 80.41958 | O11: =MAX((N11-100)*K11,0) -> 0 | P11: =O11/O$35*DOT!$E$18 -> 0
B12: =DFIE!$B$25 -> Uri | C12: 5973 | D12: 38275 | E12: =C12/D12 -> 0.15605487 | F12: =E12/E$35*100 -> 228.33716 | G12: =MAX((F12-100)*C12,0) -> 766557.84 | H12: =G12/G$35*DOT!$D$18 -> 590511.17 | J12: =DFIE!$B$25 -> Uri | K12: 49994 | L12: 1557 | M12: =L12 -> 1557 | N12: =M12/M$35*100 -> 181.46853 | O12: =MAX((N12-100)*K12,0) -> 4072937.8 | P12: =O12/O$35*DOT!$E$18 -> 6068111.8
B13: =DFIE!$B$26 -> Schwyz | C13: 26822 | D13: 168931 | E13: =C13/D13 -> 0.15877488 | F13: =E13/E$35*100 -> 232.31705 | G13: =MAX((F13-100)*C13,0) -> 3549007.8 | H13: =G13/G$35*DOT!$D$18 -> 2733947.3 | J13: =DFIE!$B$26 -> Schwyz | K13: 72499 | L13: 1036 | M13: =L13 -> 1036 | N13: =M13/M$35*100 -> 120.74592 | O13: =MAX((N13-100)*K13,0) -> 1504058.5 | P13: =O13/O$35*DOT!$E$18 -> 2240838.3
B14: =DFIE!$B$27 -> Obwalden | C14: 6114 | D14: 39662 | E14: =C14/D14 -> 0.15415259 | F14: =E14/E$35*100 -> 225.55377 | G14: =MAX((F14-100)*C14,0) -> 767635.77 | H14: =G14/G$35*DOT!$D$18 -> 591341.55 | J14: =DFIE!$B$27 -> Obwalden | K14: 40030 | L14: 1293 | M14: =L14 -> 1293 | N14: =M14/M$35*100 -> 150.6993 | O14: =MAX((N14-100)*K14,0) -> 2029493 | P14: =O14/O$35*DOT!$E$18 -> 3023662.8
B15: =DFIE!$B$28 -> Nidwalden | C15: 1146 | D15: 45345 | E15: =C15/D15 -> 0.025272908 | F15: =E15/E$35*100 -> 36.978942 | G15: =MAX((F15-100)*C15,0) -> 0 | H15: =G15/G$35*DOT!$D$18 -> 0 | J15: =DFIE!$B$28 -> Nidwalden | K15: 20901 | L15: 1011 | M15: =L15 -> 1011 | N15: =M15/M$35*100 -> 117.83217 | O15: =MAX((N15-100)*K15,0) -> 372710.14 | P15: =O15/O$35*DOT!$E$18 -> 555286.36
B16: =DFIE!$B$29 -> Glarus | C16: 2001 | D16: 42371 | E16: =C16/D16 -> 0.047225697 | F16: =E16/E$35*100 -> 69.099937 | G16: =MAX((F16-100)*C16,0) -> 0 | H16: =G16/G$35*DOT!$D$18 -> 0 | J16: =DFIE!$B$29 -> Glarus | K16: 43710 | L16: 1319 | M16: =L16 -> 1319 | N16: =M16/M$35*100 -> 153.7296 | O16: =MAX((N16-100)*K16,0) -> 2348521 | P16: =O16/O$35*DOT!$E$18 -> 3498970.2
B17: =DFIE!$B$30 -> Zug | C17: 5057 | D17: 133739 | E17: =C17/D17 -> 0.037812456 | F17: =E17/E$35*100 -> 55.326622 | G17: =MAX((F17-100)*C17,0) -> 0 | H17: =G17/G$35*DOT!$D$18 -> 0 | J17: =DFIE!$B$30 -> Zug | K17: 20055 | L17: 689 | M17: =L17 -> 689 | N17: =M17/M$35*100 -> 80.30303 | O17: =MAX((N17-100)*K17,0) -> 0 | P17: =O17/O$35*DOT!$E$18 -> 0
B18: =DFIE!$B$31 -> Freiburg | C18: 41701 | D18: 346674 | E18: =C18/D18 -> 0.1202888 | F18: =E18/E$35*100 -> 176.00478 | G18: =MAX((F18-100)*C18,0) -> 3169475.5 | H18: =G18/G$35*DOT!$D$18 -> 2441577.9 | J18: =DFIE!$B$31 -> Freiburg | K18: 153561 | L18: 759 | M18: =L18 -> 759 | N18: =M18/M$35*100 -> 88.461538 | O18: =MAX((N18-100)*K18,0) -> 0 | P18: =O18/O$35*DOT!$E$18 -> 0
B19: =DFIE!$B$32 -> Solothurn | C19: 471 | D19: 289792 | E19: =C19/D19 -> 0.0016253037 | F19: =E19/E$35*100 -> 2.3781201 | G19: =MAX((F19-100)*C19,0) -> 0 | H19: =G19/G$35*DOT!$D$18 -> 0 | J19: =DFIE!$B$32 -> Solothurn | K19: 78185 | L19: 552 | M19: =L19 -> 552 | N19: =M19/M$35*100 -> 64.335664 | O19: =MAX((N19-100)*K19,0) -> 0 | P19: =O19/O$35*DOT!$E$18 -> 0
B20: =DFIE!$B$33 -> Basel-Stadt | C20: 0 | D20: 201384 | E20: =C20/D20 -> 0 | F20: =E20/E$35*100 -> 0 | G20: =MAX((F20-100)*C20,0) -> 0 | H20: =G20/G$35*DOT!$D$18 -> 0 | J20: =DFIE!$B$33 -> Basel-Stadt | K20: 3531 | L20: 275 | M20: =L20 -> 275 | N20: =M20/M$35*100 -> 32.051282 | O20: =MAX((N20-100)*K20,0) -> 0 | P20: =O20/O$35*DOT!$E$18 -> 0
B21: =DFIE!$B$34 -> Basel-Landschaft | C21: 142 | D21: 301323 | E21: =C21/D21 -> 0.0004712551 | F21: =E21/E$35*100 -> 0.68953344 | G21: =MAX((F21-100)*C21,0) -> 0 | H21: =G21/G$35*DOT!$D$18 -> 0 | J21: =DFIE!$B$34 -> Basel-Landschaft | K21: 51377 | L21: 507 | M21: =L21 -> 507 | N21: =M21/M$35*100 -> 59.090909 | O21: =MAX((N21-100)*K21,0) -> 0 | P21: =O21/O$35*DOT!$E$18 -> 0
B22: =DFIE!$B$35 -> Schaffhausen | C22: 17 | D22: 88667 | E22: =C22/D22 -> 0.0001917286 | F22: =E22/E$35*100 -> 0.28053444 | G22: =MAX((F22-100)*C22,0) -> 0 | H22: =G22/G$35*DOT!$D$18 -> 0 | J22: =DFIE!$B$35 -> Schaffhausen | K22: 29432 | L22: 516 | M22: =L22 -> 516 | N22: =M22/M$35*100 -> 60.13986 | O22: =MAX((N22-100)*K22,0) -> 0 | P22: =O22/O$35*DOT!$E$18 -> 0
B23: =DFIE!$B$36 -> Appenzell A.Rh. | C23: 33262 | D23: 56705 | E23: =C23/D23 -> 0.58657967 | F23: =E23/E$35*100 -> 858.27464 | G23: =MAX((F23-100)*C23,0) -> 25221731 | H23: =G23/G$35*DOT!$D$18 -> 19429341 | J23: =DFIE!$B$36 -> Appenzell A.Rh. | K23: 23915 | L23: 906 | M23: =L23 -> 906 | N23: =M23/M$35*100 -> 105.59441 | O23: =MAX((N23-100)*K23,0) -> 133790.21 | P23: =O23/O$35*DOT!$E$18 -> 199328.84
B24: =DFIE!$B$37 -> Appenzell I.Rh. | C24: 9647 | D24: 16733 | E24: =C24/D24 -> 0.57652543 | F24: =E24/E$35*100 -> 843.56342 | G24: =MAX((F24-100)*C24,0) -> 7173156.4 | H24: =G24/G$35*DOT!$D$18 -> 5525778.7 | J24: =DFIE!$B$37 -> Appenzell I.Rh. | K24: 15599 | L24: 1003 | M24: =L24 -> 1003 | N24: =M24/M$35*100 -> 116.89977 | O24: =MAX((N24-100)*K24,0) -> 263619.46 | P24: =O24/O$35*DOT!$E$18 -> 392756.4
B25: =DFIE!$B$38 -> St. Gallen | C25: 21739 | D25: 540036 | E25: =C25/D25 -> 0.040254724 | F25: =E25/E$35*100 -> 58.900113 | G25: =MAX((F25-100)*C25,0) -> 0 | H25: =G25/G$35*DOT!$D$18 -> 0 | J25: =DFIE!$B$38 -> St. Gallen | K25: 176085 | L25: 790 | M25: =L25 -> 790 | N25: =M25/M$35*100 -> 92.074592 | O25: =MAX((N25-100)*K25,0) -> 0 | P25: =O25/O$35*DOT!$E$18 -> 0
B26: =DFIE!$B$39 -> Graubünden | C26: 93924 | D26: 206138 | E26: =C26/D26 -> 0.45563652 | F26: =E26/E$35*100 -> 666.68057 | G26: =MAX((F26-100)*C26,0) -> 53224906 | H26: =G26/G$35*DOT!$D$18 -> 41001343 | J26: =DFIE!$B$39 -> Graubünden | K26: 418483 | L26: 1788 | M26: =L26 -> 1788 | N26: =M26/M$35*100 -> 208.39161 | O26: =MAX((N26-100)*K26,0) -> 45360045 | P26: =O26/O$35*DOT!$E$18 -> 67580170
B27: =DFIE!$B$40 -> Aargau | C27: 18 | D27: 735808 | E27: =C27/D27 -> 2.4462903e-05 | F27: =E27/E$35*100 -> 0.035793756 | G27: =MAX((F27-100)*C27,0) -> 0 | H27: =G27/G$35*DOT!$D$18 -> 0 | J27: =DFIE!$B$40 -> Aargau | K27: 136694 | L27: 466 | M27: =L27 -> 466 | N27: =M27/M$35*100 -> 54.312354 | O27: =MAX((N27-100)*K27,0) -> 0 | P27: =O27/O$35*DOT!$E$18 -> 0
B28: =DFIE!$B$41 -> Thurgau | C28: 113 | D28: 299509 | E28: =C28/D28 -> 0.00037728416 | F28: =E28/E$35*100 -> 0.55203656 | G28: =MAX((F28-100)*C28,0) -> 0 | H28: =G28/G$35*DOT!$D$18 -> 0 | J28: =DFIE!$B$41 -> Thurgau | K28: 84933 | L28: 502 | M28: =L28 -> 502 | N28: =M28/M$35*100 -> 58.508159 | O28: =MAX((N28-100)*K28,0) -> 0 | P28: =O28/O$35*DOT!$E$18 -> 0
B29: =DFIE!$B$42 -> Tessin | C29: 8953 | D29: 358903 | E29: =C29/D29 -> 0.024945459 | F29: =E29/E$35*100 -> 36.499824 | G29: =MAX((F29-100)*C29,0) -> 0 | H29: =G29/G$35*DOT!$D$18 -> 0 | J29: =DFIE!$B$42 -> Tessin | K29: 197316 | L29: 1169 | M29: =L29 -> 1169 | N29: =M29/M$35*100 -> 136.24709 | O29: =MAX((N29-100)*K29,0) -> 7152130.1 | P29: =O29/O$35*DOT!$E$18 -> 10655681
B30: =DFIE!$B$43 -> Waadt | C30: 60432 | D30: 855106 | E30: =C30/D30 -> 0.07067194 | F30: =E30/E$35*100 -> 103.40613 | G30: =MAX((F30-100)*C30,0) -> 205839.29 | H30: =G30/G$35*DOT!$D$18 -> 158566.51 | J30: =DFIE!$B$43 -> Waadt | K30: 269782 | L30: 723 | M30: =L30 -> 723 | N30: =M30/M$35*100 -> 84.265734 | O30: =MAX((N30-100)*K30,0) -> 0 | P30: =O30/O$35*DOT!$E$18 -> 0
B31: =DFIE!$B$44 -> Wallis | C31: 116210 | D31: 371288 | E31: =C31/D31 -> 0.31299153 | F31: =E31/E$35*100 -> 457.96455 | G31: =MAX((F31-100)*C31,0) -> 41599060 | H31: =G31/G$35*DOT!$D$18 -> 32045475 | J31: =DFIE!$B$44 -> Wallis | K31: 244908 | L31: 1600 | M31: =L31 -> 1600 | N31: =M31/M$35*100 -> 186.48019 | O31: =MAX((N31-100)*K31,0) -> 21179690 | P31: =O31/O$35*DOT!$E$18 -> 31554797
B32: =DFIE!$B$45 -> Neuenburg | C32: 65197 | D32: 179518 | E32: =C32/D32 -> 0.36317807 | F32: =E32/E$35*100 -> 531.39674 | G32: =MAX((F32-100)*C32,0) -> 28125773 | H32: =G32/G$35*DOT!$D$18 -> 21666445 | J32: =DFIE!$B$45 -> Neuenburg | K32: 71127 | L32: 1037 | M32: =L32 -> 1037 | N32: =M32/M$35*100 -> 120.86247 | O32: =MAX((N32-100)*K32,0) -> 1483885 | P32: =O32/O$35*DOT!$E$18 -> 2210782.6
B33: =DFIE!$B$46 -> Genf | C33: 0 | D33: 531102 | E33: =C33/D33 -> 0 | F33: =E33/E$35*100 -> 0 | G33: =MAX((F33-100)*C33,0) -> 0 | H33: =G33/G$35*DOT!$D$18 -> 0 | J33: =DFIE!$B$46 -> Genf | K33: 24025 | L33: 426 | M33: =L33 -> 426 | N33: =M33/M$35*100 -> 49.65035 | O33: =MAX((N33-100)*K33,0) -> 0 | P33: =O33/O$35*DOT!$E$18 -> 0
B34: =DFIE!$B$47 -> Jura | C34: 11132 | D34: 74840 | E34: =C34/D34 -> 0.14874399 | F34: =E34/E$35*100 -> 217.63999 | G34: =MAX((F34-100)*C34,0) -> 1309568.3 | H34: =G34/G$35*DOT!$D$18 -> 1008814.6 | J34: =DFIE!$B$47 -> Jura | K34: 83227 | L34: 641 | M34: =L34 -> 641 | N34: =M34/M$35*100 -> 74.708625 | O34: =MAX((N34-100)*K34,0) -> 0 | P34: =O34/O$35*DOT!$E$18 -> 0
B35: =DFIE!$B$48 -> Schweiz | C35: =SUM(C9:C34) -> 618584 | D35: =SUM(D9:D34) -> 9051029 | E35: =C35/D35 -> 0.068344052 | F35: =E35/E$35*100 -> 100 | G35: =SUM(G9:G34) -> 1.677667e+08 | H35: =SUM(H9:H34) -> 1.2923762e+08 | J35: =DFIE!$B$48 -> Schweiz | K35: =SUM(K9:K34) -> 3093602 | L35: 858 | M35: =L35 -> 858 | N35: =M35/M$35*100 -> 100 | O35: =SUM(O9:O34) -> 86744740 | P35: =SUM(P9:P34) -> 1.2923762e+08
B37: =DFIE!$B$97 -> GLA 3 (Siedlungsstruktur) | J37: =DFIE!$B$99 -> GLA 4 (Geringe Bevölkerungsdichte)
H38: =DFIE!$B$98 -> Indikator = Anteil der Wohnbevölkerung in Siedlungen mit weniger als 200 Einwohnern | P38: =DFIE!$B$100 -> Indikator = Hektaren pro Einwohner
B39: =DFIE!$B$49 -> Spalte | C39: C | D39: D | E39: E | F39: F | G39: G | H39: H | J39: =DFIE!$B$49 -> Spalte | K39: K | L39: L | M39: M | N39: N | O39: O | P39: P
B40: =DFIE!$B$50 -> Formel | E40: C / D | F40: =DFIE!$B$114 -> E / E[Schweiz] | G40: (F - 100) * C | H40: =DFIE!$B$115 -> G / G[Schweiz] * Dotation | J40: =DFIE!$B$50 -> Formel | M40: K / L | N40: =DFIE!$B$116 -> M / M[Schweiz] | O40: (N - 100) * L | P40: =DFIE!$B$117 -> O / O[Schweiz] * Dotation
C41: =DFIE!$B$110 -> Ständige Wohnbev. in Siedlungen mit weniger als 200 Einw. | D41: =DFIE!$B$102 -> Ständige Wohn- bevölkerung | E41: =DFIE!$B$103 -> Indikator | F41: =DFIE!$B$104 -> Lastenindex | G41: =DFIE!$B$105 -> Massgebende Sonderlasten | H41: =DFIE!$B$111 -> Auszahlung GLA 3 | K41: =DFIE!$B$112 -> Fläche | L41: =DFIE!$B$102 -> Ständige Wohn- bevölkerung | M41: =DFIE!$B$103 -> Indikator | N41: =DFIE!$B$104 -> Lastenindex | O41: =DFIE!$B$105 -> Massgebende Sonderlasten | P41: =DFIE!$B$113 -> Auszahlung GLA 4
B42: =DFIE!$B$51 -> Erhebungsjahr | C42: 2024 | D42: =D7 -> 2024 | J42: =DFIE!$B$51 -> Erhebungsjahr | K42: 2024 | L42: =D7 -> 2024
B43: =DFIE!$B$52 -> Einheit | C43: =DFIE!$B$56 -> Anzahl | D43: =DFIE!$B$56 -> Anzahl | E43: =DFIE!$B$58 -> Prozent | F43: =DFIE!$B$57 -> Punkte | H43: =DFIE!$B$54 -> CHF | J43: =DFIE!$B$52 -> Einheit | K43: =DFIE!$B$59 -> Hektaren | L43: =DFIE!$B$56 -> Anzahl | N43: =DFIE!$B$57 -> Punkte | P43: =DFIE!$B$54 -> CHF
B44: =DFIE!$B$22 -> Zürich | C44: 36639 | D44: =D9 -> 1620020 | E44: =C44/D44 -> 0.022616387 | F44: =E44/E$70*100 -> 44.963467 | G44: =MAX((F44-100)*C44,0) -> 0 | H44: =G44/G$70*DOT!$F$18 -> 0 | J44: =DFIE!$B$22 -> Zürich | K44: 172894 | L44: =D9 -> 1620020 | M44: =K44/L44 -> 0.10672337 | N44: =M44/M$70*100 -> 23.394047 | O44: =MAX((N44-100)*L44,0) -> 0 | P44: =O44/O$70*DOT!$G$18 -> 0
B45: =DFIE!$B$23 -> Bern | C45: 98118 | D45: =D10 -> 1071216 | E45: =C45/D45 -> 0.091594972 | F45: =E45/E$70*100 -> 182.09926 | G45: =MAX((F45-100)*C45,0) -> 8055415.6 | H45: =G45/G$70*DOT!$F$18 -> 23321307 | J45: =DFIE!$B$23 -> Bern | K45: 595851 | L45: =D10 -> 1071216 | M45: =K45/L45 -> 0.55623796 | N45: =M45/M$70*100 -> 121.92884 | O45: =MAX((N45-100)*L45,0) -> 23490523 | P45: =O45/O$70*DOT!$G$18 -> 4763842.8
B46: =DFIE!$B$24 -> Luzern | C46: 34615 | D46: =D11 -> 437944 | E46: =C46/D46 -> 0.079039786 | F46: =E46/E$70*100 -> 157.13839 | G46: =MAX((F46-100)*C46,0) -> 1977845.5 | H46: =G46/G$70*DOT!$F$18 -> 5726078.6 | J46: =DFIE!$B$24 -> Luzern | K46: 149352 | L46: =D11 -> 437944 | M46: =K46/L46 -> 0.3410299 | N46: =M46/M$70*100 -> 74.754661 | O46: =MAX((N46-100)*L46,0) -> 0 | P46: =O46/O$70*DOT!$G$18 -> 0
B47: =DFIE!$B$25 -> Uri | C47: 4555 | D47: =D12 -> 38275 | E47: =C47/D47 -> 0.11900718 | F47: =E47/E$70*100 -> 236.59727 | G47: =MAX((F47-100)*C47,0) -> 622200.58 | H47: =G47/G$70*DOT!$F$18 -> 1801338.6 | J47: =DFIE!$B$25 -> Uri | K47: 107653 | L47: =D12 -> 38275 | M47: =K47/L47 -> 2.8126192 | N47: =M47/M$70*100 -> 616.53361 | O47: =MAX((N47-100)*L47,0) -> 19770324 | P47: =O47/O$70*DOT!$G$18 -> 4009392
B48: =DFIE!$B$26 -> Schwyz | C48: 12840 | D48: =D13 -> 168931 | E48: =C48/D48 -> 0.076007364 | F48: =E48/E$70*100 -> 151.10966 | G48: =MAX((F48-100)*C48,0) -> 656248.02 | H48: =G48/G$70*DOT!$F$18 -> 1899909.6 | J48: =DFIE!$B$26 -> Schwyz | K48: 90788 | L48: =D13 -> 168931 | M48: =K48/L48 -> 0.53742652 | N48: =M48/M$70*100 -> 117.80532 | O48: =MAX((N48-100)*L48,0) -> 3007870.9 | P48: =O48/O$70*DOT!$G$18 -> 609991.7
B49: =DFIE!$B$27 -> Obwalden | C49: 4594 | D49: =D14 -> 39662 | E49: =C49/D49 -> 0.11582875 | F49: =E49/E$70*100 -> 230.27826 | G49: =MAX((F49-100)*C49,0) -> 598498.32 | H49: =G49/G$70*DOT!$F$18 -> 1732717.9 | J49: =DFIE!$B$27 -> Obwalden | K49: 49058 | L49: =D14 -> 39662 | M49: =K49/L49 -> 1.2369018 | N49: =M49/M$70*100 -> 271.13217 | O49: =MAX((N49-100)*L49,0) -> 6787444 | P49: =O49/O$70*DOT!$G$18 -> 1376483.4
B50: =DFIE!$B$28 -> Nidwalden | C50: 3802 | D50: =D15 -> 45345 | E50: =C50/D50 -> 0.083846069 | F50: =E50/E$70*100 -> 166.69373 | G50: =MAX((F50-100)*C50,0) -> 253569.56 | H50: =G50/G$70*DOT!$F$18 -> 734111.54 | J50: =DFIE!$B$28 -> Nidwalden | K50: 27584 | L50: =D15 -> 45345 | M50: =K50/L50 -> 0.60831404 | N50: =M50/M$70*100 -> 133.34405 | O50: =MAX((N50-100)*L50,0) -> 1511986.1 | P50: =O50/O$70*DOT!$G$18 -> 306628.51
B51: =DFIE!$B$29 -> Glarus | C51: 2345 | D51: =D16 -> 42371 | E51: =C51/D51 -> 0.055344457 | F51: =E51/E$70*100 -> 110.02989 | G51: =MAX((F51-100)*C51,0) -> 23520.097 | H51: =G51/G$70*DOT!$F$18 -> 68093.248 | J51: =DFIE!$B$29 -> Glarus | K51: 68531 | L51: =D16 -> 42371 | M51: =K51/L51 -> 1.6174034 | N51: =M51/M$70*100 -> 354.53913 | O51: =MAX((N51-100)*L51,0) -> 10785077 | P51: =O51/O$70*DOT!$G$18 -> 2187197.5
B52: =DFIE!$B$30 -> Zug | C52: 5738 | D52: =D17 -> 133739 | E52: =C52/D52 -> 0.042904463 | F52: =E52/E$70*100 -> 85.298035 | G52: =MAX((F52-100)*C52,0) -> 0 | H52: =G52/G$70*DOT!$F$18 -> 0 | J52: =DFIE!$B$30 -> Zug | K52: 23873 | L52: =D17 -> 133739 | M52: =K52/L52 -> 0.1785044 | N52: =M52/M$70*100 -> 39.128639 | O52: =MAX((N52-100)*L52,0) -> 0 | P52: =O52/O$70*DOT!$G$18 -> 0
B53: =DFIE!$B$31 -> Freiburg | C53: 29608 | D53: =D18 -> 346674 | E53: =C53/D53 -> 0.085405886 | F53: =E53/E$70*100 -> 169.79479 | G53: =MAX((F53-100)*C53,0) -> 2066484.1 | H53: =G53/G$70*DOT!$F$18 -> 5982696.9 | J53: =DFIE!$B$31 -> Freiburg | K53: 167243 | L53: =D18 -> 346674 | M53: =K53/L53 -> 0.48242153 | N53: =M53/M$70*100 -> 105.74808 | O53: =MAX((N53-100)*L53,0) -> 1992710.1 | P53: =O53/O$70*DOT!$G$18 -> 404118.62
B54: =DFIE!$B$32 -> Solothurn | C54: 8298 | D54: =D19 -> 289792 | E54: =C54/D54 -> 0.028634331 | F54: =E54/E$70*100 -> 56.927694 | G54: =MAX((F54-100)*C54,0) -> 0 | H54: =G54/G$70*DOT!$F$18 -> 0 | J54: =DFIE!$B$32 -> Solothurn | K54: 79046 | L54: =D19 -> 289792 | M54: =K54/L54 -> 0.27276805 | N54: =M54/M$70*100 -> 59.791483 | O54: =MAX((N54-100)*L54,0) -> 0 | P54: =O54/O$70*DOT!$G$18 -> 0
B55: =DFIE!$B$33 -> Basel-Stadt | C55: 820 | D55: =D20 -> 201384 | E55: =C55/D55 -> 0.004071823 | F55: =E55/E$70*100 -> 8.0951601 | G55: =MAX((F55-100)*C55,0) -> 0 | H55: =G55/G$70*DOT!$F$18 -> 0 | J55: =DFIE!$B$33 -> Basel-Stadt | K55: 3695 | L55: =D20 -> 201384 | M55: =K55/L55 -> 0.018348032 | N55: =M55/M$70*100 -> 4.0219373 | O55: =MAX((N55-100)*L55,0) -> 0 | P55: =O55/O$70*DOT!$G$18 -> 0
B56: =DFIE!$B$34 -> Basel-Landschaft | C56: 4959 | D56: =D21 -> 301323 | E56: =C56/D56 -> 0.016457423 | F56: =E56/E$70*100 -> 32.718876 | G56: =MAX((F56-100)*C56,0) -> 0 | H56: =G56/G$70*DOT!$F$18 -> 0 | J56: =DFIE!$B$34 -> Basel-Landschaft | K56: 51767 | L56: =D21 -> 301323 | M56: =K56/L56 -> 0.17179903 | N56: =M56/M$70*100 -> 37.658805 | O56: =MAX((N56-100)*L56,0) -> 0 | P56: =O56/O$70*DOT!$G$18 -> 0
B57: =DFIE!$B$35 -> Schaffhausen | C57: 2447 | D57: =D22 -> 88667 | E57: =C57/D57 -> 0.027597641 | F57: =E57/E$70*100 -> 54.866658 | G57: =MAX((F57-100)*C57,0) -> 0 | H57: =G57/G$70*DOT!$F$18 -> 0 | J57: =DFIE!$B$35 -> Schaffhausen | K57: 29842 | L57: =D22 -> 88667 | M57: =K57/L57 -> 0.33656264 | N57: =M57/M$70*100 -> 73.775426 | O57: =MAX((N57-100)*L57,0) -> 0 | P57: =O57/O$70*DOT!$G$18 -> 0
B58: =DFIE!$B$36 -> Appenzell A.Rh. | C58: 6779 | D58: =D23 -> 56705 | E58: =C58/D58 -> 0.11954854 | F58: =E58/E$70*100 -> 237.67354 | G58: =MAX((F58-100)*C58,0) -> 933288.92 | H58: =G58/G$70*DOT!$F$18 -> 2701973.3 | J58: =DFIE!$B$36 -> Appenzell A.Rh. | K58: 24284 | L58: =D23 -> 56705 | M58: =K58/L58 -> 0.42825148 | N58: =M58/M$70*100 -> 93.873862 | O58: =MAX((N58-100)*L58,0) -> 0 | P58: =O58/O$70*DOT!$G$18 -> 0
B59: =DFIE!$B$37 -> Appenzell I.Rh. | C59: 3270 | D59: =D24 -> 16733 | E59: =C59/D59 -> 0.19542222 | F59: =E59/E$70*100 -> 388.51742 | G59: =MAX((F59-100)*C59,0) -> 943451.96 | H59: =G59/G$70*DOT!$F$18 -> 2731396.4 | J59: =DFIE!$B$37 -> Appenzell I.Rh. | K59: 17248 | L59: =D24 -> 16733 | M59: =K59/L59 -> 1.0307775 | N59: =M59/M$70*100 -> 225.94917 | O59: =MAX((N59-100)*L59,0) -> 2107507.4 | P59: =O59/O$70*DOT!$G$18 -> 427399.34
B60: =DFIE!$B$38 -> St. Gallen | C60: 33144 | D60: =D25 -> 540036 | E60: =C60/D60 -> 0.061373686 | F60: =E60/E$70*100 -> 122.01656 | G60: =MAX((F60-100)*C60,0) -> 729716.74 | H60: =G60/G$70*DOT!$F$18 -> 2112609.6 | J60: =DFIE!$B$38 -> St. Gallen | K60: 202820 | L60: =D25 -> 540036 | M60: =K60/L60 -> 0.37556755 | N60: =M60/M$70*100 -> 82.325406 | O60: =MAX((N60-100)*L60,0) -> 0 | P60: =O60/O$70*DOT!$G$18 -> 0
B61: =DFIE!$B$39 -> Graubünden | C61: 24449 | D61: =D26 -> 206138 | E61: =C61/D61 -> 0.11860501 | F61: =E61/E$70*100 -> 235.79772 | G61: =MAX((F61-100)*C61,0) -> 3320118.4 | H61: =G61/G$70*DOT!$F$18 -> 9612105.1 | J61: =DFIE!$B$39 -> Graubünden | K61: 710530 | L61: =D26 -> 206138 | M61: =K61/L61 -> 3.4468657 | N61: =M61/M$70*100 -> 755.56212 | O61: =MAX((N61-100)*L61,0) -> 1.3513626e+08 | P61: =O61/O$70*DOT!$G$18 -> 27405432
B62: =DFIE!$B$40 -> Aargau | C62: 17252 | D62: =D27 -> 735808 | E62: =C62/D62 -> 0.023446334 | F62: =E62/E$70*100 -> 46.613477 | G62: =MAX((F62-100)*C62,0) -> 0 | H62: =G62/G$70*DOT!$F$18 -> 0 | J62: =DFIE!$B$40 -> Aargau | K62: 140380 | L62: =D27 -> 735808 | M62: =K62/L62 -> 0.19078347 | N62: =M62/M$70*100 -> 41.820243 | O62: =MAX((N62-100)*L62,0) -> 0 | P62: =O62/O$70*DOT!$G$18 -> 0
B63: =DFIE!$B$41 -> Thurgau | C63: 22924 | D63: =D28 -> 299509 | E63: =C63/D63 -> 0.076538602 | F63: =E63/E$70*100 -> 152.16581 | G63: =MAX((F63-100)*C63,0) -> 1195849 | H63: =G63/G$70*DOT!$F$18 -> 3462113.3 | J63: =DFIE!$B$41 -> Thurgau | K63: 99433 | L63: =D28 -> 299509 | M63: =K63/L63 -> 0.33198668 | N63: =M63/M$70*100 -> 72.772364 | O63: =MAX((N63-100)*L63,0) -> 0 | P63: =O63/O$70*DOT!$G$18 -> 0
B64: =DFIE!$B$42 -> Tessin | C64: 15999 | D64: =D29 -> 358903 | E64: =C64/D64 -> 0.044577504 | F64: =E64/E$70*100 -> 88.624195 | G64: =MAX((F64-100)*C64,0) -> 0 | H64: =G64/G$70*DOT!$F$18 -> 0 | J64: =DFIE!$B$42 -> Tessin | K64: 281215 | L64: =D29 -> 358903 | M64: =K64/L64 -> 0.7835404 | N64: =M64/M$70*100 -> 171.75414 | O64: =MAX((N64-100)*L64,0) -> 25752775 | P64: =O64/O$70*DOT!$G$18 -> 5222624.2
B65: =DFIE!$B$43 -> Waadt | C65: 38213 | D65: =D30 -> 855106 | E65: =C65/D65 -> 0.044688027 | F65: =E65/E$70*100 -> 88.843925 | G65: =MAX((F65-100)*C65,0) -> 0 | H65: =G65/G$70*DOT!$F$18 -> 0 | J65: =DFIE!$B$43 -> Waadt | K65: 321202 | L65: =D30 -> 855106 | M65: =K65/L65 -> 0.37562828 | N65: =M65/M$70*100 -> 82.338718 | O65: =MAX((N65-100)*L65,0) -> 0 | P65: =O65/O$70*DOT!$G$18 -> 0
B66: =DFIE!$B$44 -> Wallis | C66: 20058 | D66: =D31 -> 371288 | E66: =C66/D66 -> 0.054022753 | F66: =E66/E$70*100 -> 107.40222 | G66: =MAX((F66-100)*C66,0) -> 148473.78 | H66: =G66/G$70*DOT!$F$18 -> 429847.79 | J66: =DFIE!$B$44 -> Wallis | K66: 522464 | L66: =D31 -> 371288 | M66: =K66/L66 -> 1.4071664 | N66: =M66/M$70*100 -> 308.45462 | O66: =MAX((N66-100)*L66,0) -> 77396698 | P66: =O66/O$70*DOT!$G$18 -> 15695934
B67: =DFIE!$B$45 -> Neuenburg | C67: 9610 | D67: =D32 -> 179518 | E67: =C67/D67 -> 0.053532236 | F67: =E67/E$70*100 -> 106.42703 | G67: =MAX((F67-100)*C67,0) -> 61763.754 | H67: =G67/G$70*DOT!$F$18 -> 178812.81 | J67: =DFIE!$B$45 -> Neuenburg | K67: 80216 | L67: =D32 -> 179518 | M67: =K67/L67 -> 0.44684099 | N67: =M67/M$70*100 -> 97.948732 | O67: =MAX((N67-100)*L67,0) -> 0 | P67: =O67/O$70*DOT!$G$18 -> 0
B68: =DFIE!$B$46 -> Genf | C68: 6722 | D68: =D33 -> 531102 | E68: =C68/D68 -> 0.012656702 | F68: =E68/E$70*100 -> 25.162693 | G68: =MAX((F68-100)*C68,0) -> 0 | H68: =G68/G$70*DOT!$F$18 -> 0 | J68: =DFIE!$B$46 -> Genf | K68: 28249 | L68: =D33 -> 531102 | M68: =K68/L68 -> 0.053189406 | N68: =M68/M$70*100 -> 11.659259 | O68: =MAX((N68-100)*L68,0) -> 0 | P68: =O68/O$70*DOT!$G$18 -> 0
B69: =DFIE!$B$47 -> Jura | C69: 7464 | D69: =D34 -> 74840 | E69: =C69/D69 -> 0.099732763 | F69: =E69/E$70*100 -> 198.27794 | G69: =MAX((F69-100)*C69,0) -> 733546.57 | H69: =G69/G$70*DOT!$F$18 -> 2123697.4 | J69: =DFIE!$B$47 -> Jura | K69: 83851 | L69: =D34 -> 74840 | M69: =K69/L69 -> 1.1204035 | N69: =M69/M$70*100 -> 245.59543 | O69: =MAX((N69-100)*L69,0) -> 10896362 | P69: =O69/O$70*DOT!$G$18 -> 2209765.9
B70: =DFIE!$B$48 -> Schweiz | C70: =SUM(C44:C69) -> 455262 | D70: =SUM(D44:D69) -> 9051029 | E70: =C70/D70 -> 0.050299474 | F70: =E70/E$70*100 -> 100 | G70: =SUM(G44:G69) -> 22319991 | H70: =SUM(H44:H69) -> 64618809 | J70: =DFIE!$B$48 -> Schweiz | K70: =SUM(K44:K69) -> 4129069 | L70: =SUM(L44:L69) -> 9051029 | M70: =K70/L70 -> 0.45619885 | N70: =M70/M$70*100 -> 100 | O70: =SUM(O44:O69) -> 3.1863554e+08 | P70: =SUM(P44:P69) -> 64618809

Sheet GLA-2
B1: =DFIE!$B$118 -> Auszahlungen GLA 2027
B6: =DFIE!$B$119 -> in CHF
C7: =DFIE!$B$120 -> GLA 1 | D7: =DFIE!$B$121 -> GLA 2 | E7: =DFIE!$B$122 -> GLA 3 | F7: =DFIE!$B$123 -> GLA 4 | G7: =DFIE!$B$128 -> GLA Total
C8: =DFIE!$B$124 -> Siedlungshöhe | D8: =DFIE!$B$125 -> Steilheit des Geländes | E8: =DFIE!$B$126 -> Siedlungsstruktur | F8: =DFIE!$B$127 -> Geringe Bevölke- rungsdichte
B9: =DFIE!$B$22 -> Zürich | C9: ='GLA-1'!$H9 -> 0 | D9: ='GLA-1'!P9 -> 0 | E9: ='GLA-1'!H44 -> 0 | F9: ='GLA-1'!P44 -> 0 | G9: =SUM(C9:F9) -> 0
B10: =DFIE!$B$23 -> Bern | C10: ='GLA-1'!$H10 -> 2044477.1 | D10: ='GLA-1'!P10 -> 1257234.4 | E10: ='GLA-1'!H45 -> 23321307 | F10: ='GLA-1'!P45 -> 4763842.8 | G10: =SUM(C10:F10) -> 31386862
B11: =DFIE!$B$24 -> Luzern | C11: ='GLA-1'!$H11 -> 0 | D11: ='GLA-1'!P11 -> 0 | E11: ='GLA-1'!H46 -> 5726078.6 | F11: ='GLA-1'!P46 -> 0 | G11: =SUM(C11:F11) -> 5726078.6
B12: =DFIE!$B$25 -> Uri | C12: ='GLA-1'!$H12 -> 590511.17 | D12: ='GLA-1'!P12 -> 6068111.8 | E12: ='GLA-1'!H47 -> 1801338.6 | F12: ='GLA-1'!P47 -> 4009392 | G12: =SUM(C12:F12) -> 12469353
B13: =DFIE!$B$26 -> Schwyz | C13: ='GLA-1'!$H13 -> 2733947.3 | D13: ='GLA-1'!P13 -> 2240838.3 | E13: ='GLA-1'!H48 -> 1899909.6 | F13: ='GLA-1'!P48 -> 609991.7 | G13: =SUM(C13:F13) -> 7484687
B14: =DFIE!$B$27 -> Obwalden | C14: ='GLA-1'!$H14 -> 591341.55 | D14: ='GLA-1'!P14 -> 3023662.8 | E14: ='GLA-1'!H49 -> 1732717.9 | F14: ='GLA-1'!P49 -> 1376483.4 | G14: =SUM(C14:F14) -> 6724205.7
B15: =DFIE!$B$28 -> Nidwalden | C15: ='GLA-1'!$H15 -> 0 | D15: ='GLA-1'!P15 -> 555286.36 | E15: ='GLA-1'!H50 -> 734111.54 | F15: ='GLA-1'!P50 -> 306628.51 | G15: =SUM(C15:F15) -> 1596026.4
B16: =DFIE!$B$29 -> Glarus | C16: ='GLA-1'!$H16 -> 0 | D16: ='GLA-1'!P16 -> 3498970.2 | E16: ='GLA-1'!H51 -> 68093.248 | F16: ='GLA-1'!P51 -> 2187197.5 | G16: =SUM(C16:F16) -> 5754260.9
B17: =DFIE!$B$30 -> Zug | C17: ='GLA-1'!$H17 -> 0 | D17: ='GLA-1'!P17 -> 0 | E17: ='GLA-1'!H52 -> 0 | F17: ='GLA-1'!P52 -> 0 | G17: =SUM(C17:F17) -> 0
B18: =DFIE!$B$31 -> Freiburg | C18: ='GLA-1'!$H18 -> 2441577.9 | D18: ='GLA-1'!P18 -> 0 | E18: ='GLA-1'!H53 -> 5982696.9 | F18: ='GLA-1'!P53 -> 404118.62 | G18: =SUM(C18:F18) -> 8828393.5
B19: =DFIE!$B$32 -> Solothurn | C19: ='GLA-1'!$H19 -> 0 | D19: ='GLA-1'!P19 -> 0 | E19: ='GLA-1'!H54 -> 0 | F19: ='GLA-1'!P54 -> 0 | G19: =SUM(C19:F19) -> 0
B20: =DFIE!$B$33 -> Basel-Stadt | C20: ='GLA-1'!$H20 -> 0 | D20: ='GLA-1'!P20 -> 0 | E20: ='GLA-1'!H55 -> 0 | F20: ='GLA-1'!P55 -> 0 | G20: =SUM(C20:F20) -> 0
B21: =DFIE!$B$34 -> Basel-Landschaft | C21: ='GLA-1'!$H21 -> 0 | D21: ='GLA-1'!P21 -> 0 | E21: ='GLA-1'!H56 -> 0 | F21: ='GLA-1'!P56 -> 0 | G21: =SUM(C21:F21) -> 0
B22: =DFIE!$B$35 -> Schaffhausen | C22: ='GLA-1'!$H22 -> 0 | D22: ='GLA-1'!P22 -> 0 | E22: ='GLA-1'!H57 -> 0 | F22: ='GLA-1'!P57 -> 0 | G22: =SUM(C22:F22) -> 0
B23: =DFIE!$B$36 -> Appenzell A.Rh. | C23: ='GLA-1'!$H23 -> 19429341 | D23: ='GLA-1'!P23 -> 199328.84 | E23: ='GLA-1'!H58 -> 2701973.3 | F23: ='GLA-1'!P58 -> 0 | G23: =SUM(C23:F23) -> 22330643
B24: =DFIE!$B$37 -> Appenzell I.Rh. | C24: ='GLA-1'!$H24 -> 5525778.7 | D24: ='GLA-1'!P24 -> 392756.4 | E24: ='GLA-1'!H59 -> 2731396.4 | F24: ='GLA-1'!P59 -> 427399.34 | G24: =SUM(C24:F24) -> 9077330.8
B25: =DFIE!$B$38 -> St. Gallen | C25: ='GLA-1'!$H25 -> 0 | D25: ='GLA-1'!P25 -> 0 | E25: ='GLA-1'!H60 -> 2112609.6 | F25: ='GLA-1'!P60 -> 0 | G25: =SUM(C25:F25) -> 2112609.6
B26: =DFIE!$B$39 -> Graubünden | C26: ='GLA-1'!$H26 -> 41001343 | D26: ='GLA-1'!P26 -> 67580170 | E26: ='GLA-1'!H61 -> 9612105.1 | F26: ='GLA-1'!P61 -> 27405432 | G26: =SUM(C26:F26) -> 1.4559905e+08
B27: =DFIE!$B$40 -> Aargau | C27: ='GLA-1'!$H27 -> 0 | D27: ='GLA-1'!P27 -> 0 | E27: ='GLA-1'!H62 -> 0 | F27: ='GLA-1'!P62 -> 0 | G27: =SUM(C27:F27) -> 0
B28: =DFIE!$B$41 -> Thurgau | C28: ='GLA-1'!$H28 -> 0 | D28: ='GLA-1'!P28 -> 0 | E28: ='GLA-1'!H63 -> 3462113.3 | F28: ='GLA-1'!P63 -> 0 | G28: =SUM(C28:F28) -> 3462113.3
B29: =DFIE!$B$42 -> Tessin | C29: ='GLA-1'!$H29 -> 0 | D29: ='GLA-1'!P29 -> 10655681 | E29: ='GLA-1'!H64 -> 0 | F29: ='GLA-1'!P64 -> 5222624.2 | G29: =SUM(C29:F29) -> 15878305
B30: =DFIE!$B$43 -> Waadt | C30: ='GLA-1'!$H30 -> 158566.51 | D30: ='GLA-1'!P30 -> 0 | E30: ='GLA-1'!H65 -> 0 | F30: ='GLA-1'!P65 -> 0 | G30: =SUM(C30:F30) -> 158566.51
B31: =DFIE!$B$44 -> Wallis | C31: ='GLA-1'!$H31 -> 32045475 | D31: ='GLA-1'!P31 -> 31554797 | E31: ='GLA-1'!H66 -> 429847.79 | F31: ='GLA-1'!P66 -> 15695934 | G31: =SUM(C31:F31) -> 79726053
B32: =DFIE!$B$45 -> Neuenburg | C32: ='GLA-1'!$H32 -> 21666445 | D32: ='GLA-1'!P32 -> 2210782.6 | E32: ='GLA-1'!H67 -> 178812.81 | F32: ='GLA-1'!P67 -> 0 | G32: =SUM(C32:F32) -> 24056040
B33: =DFIE!$B$46 -> Genf | C33: ='GLA-1'!$H33 -> 0 | D33: ='GLA-1'!P33 -> 0 | E33: ='GLA-1'!H68 -> 0 | F33: ='GLA-1'!P68 -> 0 | G33: =SUM(C33:F33) -> 0
B34: =DFIE!$B$47 -> Jura | C34: ='GLA-1'!$H34 -> 1008814.6 | D34: ='GLA-1'!P34 -> 0 | E34: ='GLA-1'!H69 -> 2123697.4 | F34: ='GLA-1'!P69 -> 2209765.9 | G34: =SUM(C34:F34) -> 5342277.8
B35: =DFIE!$B$48 -> Schweiz | C35: =SUM(C9:C34) -> 1.2923762e+08 | D35: =SUM(D9:D34) -> 1.2923762e+08 | E35: =SUM(E9:E34) -> 64618809 | F35: =SUM(F9:F34) -> 64618809 | G35: =SUM(G9:G34) -> 3.8771286e+08

Sheet SLA.AC-1
D1: =DFIE!$B$129 -> SLA A | F1: =DFIE!$B$131 -> SLA B | J1: =DFIE!$B$133 -> SLA C
B3: =DFIE!$B$53 -> Indikator | D3: =DFIE!$B$130 -> Armut (Armutsindikator des BFS) | F3: =DFIE!$B$132 -> Altersstruktur (Anteil der Bevölkerung über 80 Jahre an der Wohnbevölkerung) | J3: =DFIE!$B$134 -> Ausländerintegration (Anteil der massgebenden ausländischen Bevölkerung an der Wohnbevölkerung)
B4: =DFIE!$B$49 -> Spalte | D4: D | F4: F | G4: G | H4: H | J4: J | K4: K | L4: L
B5: =DFIE!$B$50 -> Formel | H5: F / G | L5: J / K
D6: =DFIE!$B$135 -> Indikator | F6: =DFIE!$B$137 -> Bevölkerung über 80 Jahre | G6: =DFIE!$B$136 -> Ständige Wohn- bevölkerung | H6: =DFIE!$B$135 -> Indikator | J6: =DFIE!$B$138 -> Massgebende ausländische Bevölkerung | K6: =DFIE!$B$136 -> Ständige Wohn- bevölkerung | L6: =DFIE!$B$135 -> Indikator
B7: =DFIE!$B$51 -> Erhebungsjahr | D7: 2024 | F7: 2024 | G7: ='GLA-1'!$D7 -> 2024 | J7: 2024 | K7: ='GLA-1'!$D7 -> 2024
B8: =DFIE!$B$52 -> Einheit | D8: =DFIE!$B$58 -> Prozent | F8: =DFIE!$B$56 -> Anzahl | G8: =DFIE!$B$56 -> Anzahl | H8: =DFIE!$B$58 -> Prozent | J8: =DFIE!$B$56 -> Anzahl | K8: =DFIE!$B$56 -> Anzahl | L8: =DFIE!$B$58 -> Prozent
B9: =DFIE!$B$22 -> Zürich | D9: 0.041954919 | F9: 87323 | G9: ='GLA-1'!$D9 -> 1620020 | H9: =F9/G9 -> 0.053902421 | J9: 198420 | K9: ='GLA-1'!$D9 -> 1620020 | L9: =J9/K9 -> 0.12247997
B10: =DFIE!$B$23 -> Bern | D10: 0.060478226 | F10: 70406 | G10: ='GLA-1'!$D10 -> 1071216 | H10: =F10/G10 -> 0.065725307 | J10: 87658 | K10: ='GLA-1'!$D10 -> 1071216 | L10: =J10/K10 -> 0.081830368
B11: =DFIE!$B$24 -> Luzern | D11: 0.040636246 | F11: 23914 | G11: ='GLA-1'!$D11 -> 437944 | H11: =F11/G11 -> 0.054605155 | J11: 41421 | K11: ='GLA-1'!$D11 -> 437944 | L11: =J11/K11 -> 0.094580586
B12: =DFIE!$B$25 -> Uri | D12: 0.024155323 | F12: 2393 | G12: ='GLA-1'!$D12 -> 38275 | H12: =F12/G12 -> 0.062521228 | J12: 2976 | K12: ='GLA-1'!$D12 -> 38275 | L12: =J12/K12 -> 0.077753103
B13: =DFIE!$B$26 -> Schwyz | D13: 0.025159588 | F13: 8827 | G13: ='GLA-1'!$D13 -> 168931 | H13: =F13/G13 -> 0.052252103 | J13: 15365 | K13: ='GLA-1'!$D13 -> 168931 | L13: =J13/K13 -> 0.090954295
B14: =DFIE!$B$27 -> Obwalden | D14: 0.021727711 | F14: 2244 | G14: ='GLA-1'!$D14 -> 39662 | H14: =F14/G14 -> 0.056578085 | J14: 2772 | K14: ='GLA-1'!$D14 -> 39662 | L14: =J14/K14 -> 0.069890575
B15: =DFIE!$B$28 -> Nidwalden | D15: 0.0215737 | F15: 2817 | G15: ='GLA-1'!$D15 -> 45345 | H15: =F15/G15 -> 0.062123718 | J15: 3246 | K15: ='GLA-1'!$D15 -> 45345 | L15: =J15/K15 -> 0.071584519
B16: =DFIE!$B$29 -> Glarus | D16: 0.036720027 | F16: 2546 | G16: ='GLA-1'!$D16 -> 42371 | H16: =F16/G16 -> 0.060088268 | J16: 4300 | K16: ='GLA-1'!$D16 -> 42371 | L16: =J16/K16 -> 0.10148451
B17: =DFIE!$B$30 -> Zug | D17: 0.028435684 | F17: 7159 | G17: ='GLA-1'!$D17 -> 133739 | H17: =F17/G17 -> 0.053529636 | J17: 18841 | K17: ='GLA-1'!$D17 -> 133739 | L17: =J17/K17 -> 0.14087888
B18: =DFIE!$B$31 -> Freiburg | D18: 0.042352617 | F18: 15594 | G18: ='GLA-1'!$D18 -> 346674 | H18: =F18/G18 -> 0.044981741 | J18: 38076 | K18: ='GLA-1'!$D18 -> 346674 | L18: =J18/K18 -> 0.10983229
B19: =DFIE!$B$32 -> Solothurn | D19: 0.079256879 | F19: 17101 | G19: ='GLA-1'!$D19 -> 289792 | H19: =F19/G19 -> 0.059011291 | J19: 28796 | K19: ='GLA-1'!$D19 -> 289792 | L19: =J19/K19 -> 0.099367822
B20: =DFIE!$B$33 -> Basel-Stadt | D20: 0.12803679 | F20: 13279 | G20: ='GLA-1'!$D20 -> 201384 | H20: =F20/G20 -> 0.065938704 | J20: 30643 | K20: ='GLA-1'!$D20 -> 201384 | L20: =J20/K20 -> 0.15216204
B21: =DFIE!$B$34 -> Basel-Landschaft | D21: 0.042420776 | F21: 22243 | G21: ='GLA-1'!$D21 -> 301323 | H21: =F21/G21 -> 0.073817797 | J21: 26476 | K21: ='GLA-1'!$D21 -> 301323 | L21: =J21/K21 -> 0.087865845
B22: =DFIE!$B$35 -> Schaffhausen | D22: 0.053854804 | F22: 5900 | G22: ='GLA-1'!$D22 -> 88667 | H22: =F22/G22 -> 0.066541103 | J22: 8493 | K22: ='GLA-1'!$D22 -> 88667 | L22: =J22/K22 -> 0.095785354
B23: =DFIE!$B$36 -> Appenzell A.Rh. | D23: 0.036035535 | F23: 3335 | G23: ='GLA-1'!$D23 -> 56705 | H23: =F23/G23 -> 0.058813156 | J23: 3532 | K23: ='GLA-1'!$D23 -> 56705 | L23: =J23/K23 -> 0.062287276
B24: =DFIE!$B$37 -> Appenzell I.Rh. | D24: 0.01789387 | F24: 1018 | G24: ='GLA-1'!$D24 -> 16733 | H24: =F24/G24 -> 0.060837865 | J24: 872 | K24: ='GLA-1'!$D24 -> 16733 | L24: =J24/K24 -> 0.052112592
B25: =DFIE!$B$38 -> St. Gallen | D25: 0.040806115 | F25: 29932 | G25: ='GLA-1'!$D25 -> 540036 | H25: =F25/G25 -> 0.055425935 | J25: 52309 | K25: ='GLA-1'!$D25 -> 540036 | L25: =J25/K25 -> 0.096862061
B26: =DFIE!$B$39 -> Graubünden | D26: 0.024418883 | F26: 13673 | G26: ='GLA-1'!$D26 -> 206138 | H26: =F26/G26 -> 0.066329352 | J26: 16967 | K26: ='GLA-1'!$D26 -> 206138 | L26: =J26/K26 -> 0.082308939
B27: =DFIE!$B$40 -> Aargau | D27: 0.031742968 | F27: 38325 | G27: ='GLA-1'!$D27 -> 735808 | H27: =F27/G27 -> 0.052085598 | J27: 74997 | K27: ='GLA-1'!$D27 -> 735808 | L27: =J27/K27 -> 0.10192469
B28: =DFIE!$B$41 -> Thurgau | D28: 0.027364605 | F28: 15431 | G28: ='GLA-1'!$D28 -> 299509 | H28: =F28/G28 -> 0.051520989 | J28: 24571 | K28: ='GLA-1'!$D28 -> 299509 | L28: =J28/K28 -> 0.082037602
B29: =DFIE!$B$42 -> Tessin | D29: 0.078899937 | F29: 28637 | G29: ='GLA-1'!$D29 -> 358903 | H29: =F29/G29 -> 0.079790361 | J29: 20694 | K29: ='GLA-1'!$D29 -> 358903 | L29: =J29/K29 -> 0.057659033
B30: =DFIE!$B$43 -> Waadt | D30: 0.099240897 | F30: 44371 | G30: ='GLA-1'!$D30 -> 855106 | H30: =F30/G30 -> 0.051889473 | J30: 123220 | K30: ='GLA-1'!$D30 -> 855106 | L30: =J30/K30 -> 0.14409909
B31: =DFIE!$B$44 -> Wallis | D31: 0.07070969 | F31: 21457 | G31: ='GLA-1'!$D31 -> 371288 | H31: =F31/G31 -> 0.057790718 | J31: 40929 | K31: ='GLA-1'!$D31 -> 371288 | L31: =J31/K31 -> 0.11023518
B32: =DFIE!$B$45 -> Neuenburg | D32: 0.083516682 | F32: 11283 | G32: ='GLA-1'!$D32 -> 179518 | H32: =F32/G32 -> 0.062851636 | J32: 18193 | K32: ='GLA-1'!$D32 -> 179518 | L32: =J32/K32 -> 0.1013436
B33: =DFIE!$B$46 -> Genf | D33: 0.12237832 | F33: 29366 | G33: ='GLA-1'!$D33 -> 531102 | H33: =F33/G33 -> 0.05529258 | J33: 102038 | K33: ='GLA-1'!$D33 -> 531102 | L33: =J33/K33 -> 0.19212505
B34: =DFIE!$B$47 -> Jura | D34: 0.070927909 | F34: 4855 | G34: ='GLA-1'!$D34 -> 74840 | H34: =F34/G34 -> 0.064871726 | J34: 4936 | K34: ='GLA-1'!$D34 -> 74840 | L34: =J34/K34 -> 0.065954035
B35: =DFIE!$B$48 -> Schweiz | F35: =SUM(F9:F34) -> 523429 | G35: =SUM(G9:G34) -> 9051029 | H35: =F35/G35 -> 0.057830883 | J35: =SUM(J9:J34) -> 990741 | K35: =SUM(K9:K34) -> 9051029 | L35: =J35/K35 -> 0.1094617

Sheet SLA.AC-2
B1: =DFIE!$B$139 -> SLA A-C 2027
B3: =DFIE!$B$49 -> Spalte | C3: C | D3: D | E3: E | F3: F | G3: G | H3: H | I3: I | J3: J | K3: K | L3: L | M3: M | N3: N
B4: =DFIE!$B$50 -> Formel | I4: F * w | J4: G * w | K4: H * w | L4: I + J + K | M4: =DFIE!$B$151 -> L * Bev | N4: =DFIE!$B$152 -> M / M[Schweiz] * Dot
B5: =DFIE!$B$140 -> Gewicht (ω) | I5: 0.47 | J5: 0.1 | K5: 0.43
C6: =DFIE!$B$141 -> Teilindikatoren | F6: =DFIE!$B$142 -> Standardisierte Teilindikatoren | I6: =DFIE!$B$143 -> Gewichtete standardisierte Teilindikatoren
C7: =DFIE!$B$144 -> Armut (SLA A) | D7: =DFIE!$B$145 -> Alters- struktur (SLA B) | E7: =DFIE!$B$146 -> Ausländer- integration (SLA C) | F7: =DFIE!$B$144 -> Armut (SLA A) | G7: =DFIE!$B$145 -> Alters- struktur (SLA B) | H7: =DFIE!$B$146 -> Ausländer- integration (SLA C) | I7: =DFIE!$B$144 -> Armut (SLA A) | J7: =DFIE!$B$145 -> Alters- struktur (SLA B) | K7: =DFIE!$B$146 -> Ausländer- integration (SLA C) | L7: =DFIE!$B$147 -> Lasten- index | M7: =DFIE!$B$149 -> Massgebende Sonderlasten | N7: =DFIE!$B$150 -> Auszahlung SLA A-C
B8: =DFIE!$B$52 -> Einheit | C8: =DFIE!$B$58 -> Prozent | D8: =DFIE!$B$58 -> Prozent | E8: =DFIE!$B$58 -> Prozent | N8: =DFIE!$B$54 -> CHF
B9: =DFIE!$B$22 -> Zürich | C9: ='SLA.AC-1'!D9 -> 0.041954919 | D9: ='SLA.AC-1'!H9 -> 0.053902421 | E9: ='SLA.AC-1'!L9 -> 0.12247997 | F9: =(C9-C$37)/C$38 -> -0.32210063 | G9: =(D9-D$37)/D$38 -> -0.751283 | H9: =(E9-E$37)/E$38 -> 0.7688456 | I9: =I$5*F9 -> -0.1513873 | J9: =J$5*G9 -> -0.0751283 | K9: =K$5*H9 -> 0.33060361 | L9: =SUM(I9:K9) -> 0.10408801 | M9: =MAX(L9*'SLA.AC-1'!G9,0) -> 168624.66 | N9: =M9/$M$35*DOT!$H$18 -> 18031925
B10: =DFIE!$B$23 -> Bern | C10: ='SLA.AC-1'!D10 -> 0.060478226 | D10: ='SLA.AC-1'!H10 -> 0.065725307 | E10: ='SLA.AC-1'!L10 -> 0.081830368 | F10: =(C10-C$37)/C$38 -> 0.27483288 | G10: =(D10-D$37)/D$38 -> 0.81279395 | H10: =(E10-E$37)/E$38 -> -0.50264632 | I10: =I$5*F10 -> 0.12917146 | J10: =J$5*G10 -> 0.081279395 | K10: =K$5*H10 -> -0.21613792 | L10: =SUM(I10:K10) -> -0.0056870686 | M10: =MAX(L10*'SLA.AC-1'!G10,0) -> 0 | N10: =M10/$M$35*DOT!$H$18 -> 0
B11: =DFIE!$B$24 -> Luzern | C11: ='SLA.AC-1'!D11 -> 0.040636246 | D11: ='SLA.AC-1'!H11 -> 0.054605155 | E11: ='SLA.AC-1'!L11 -> 0.094580586 | F11: =(C11-C$37)/C$38 -> -0.36459631 | G11: =(D11-D$37)/D$38 -> -0.65831669 | H11: =(E11-E$37)/E$38 -> -0.10382819 | I11: =I$5*F11 -> -0.17136027 | J11: =J$5*G11 -> -0.065831669 | K11: =K$5*H11 -> -0.04464612 | L11: =SUM(I11:K11) -> -0.28183805 | M11: =MAX(L11*'SLA.AC-1'!G11,0) -> 0 | N11: =M11/$M$35*DOT!$H$18 -> 0
B12: =DFIE!$B$25 -> Uri | C12: ='SLA.AC-1'!D12 -> 0.024155323 | D12: ='SLA.AC-1'!H12 -> 0.062521228 | E12: ='SLA.AC-1'!L12 -> 0.077753103 | F12: =(C12-C$37)/C$38 -> -0.89571178 | G12: =(D12-D$37)/D$38 -> 0.38891896 | H12: =(E12-E$37)/E$38 -> -0.63018043 | I12: =I$5*F12 -> -0.42098454 | J12: =J$5*G12 -> 0.038891896 | K12: =K$5*H12 -> -0.27097759 | L12: =SUM(I12:K12) -> -0.65307023 | M12: =MAX(L12*'SLA.AC-1'!G12,0) -> 0 | N12: =M12/$M$35*DOT!$H$18 -> 0
B13: =DFIE!$B$26 -> Schwyz | C13: ='SLA.AC-1'!D13 -> 0.025159588 | D13: ='SLA.AC-1'!H13 -> 0.052252103 | E13: ='SLA.AC-1'!L13 -> 0.090954295 | F13: =(C13-C$37)/C$38 -> -0.86334827 | G13: =(D13-D$37)/D$38 -> -0.9696074 | H13: =(E13-E$37)/E$38 -> -0.2172561 | I13: =I$5*F13 -> -0.40577369 | J13: =J$5*G13 -> -0.09696074 | K13: =K$5*H13 -> -0.093420122 | L13: =SUM(I13:K13) -> -0.59615455 | M13: =MAX(L13*'SLA.AC-1'!G13,0) -> 0 | N13: =M13/$M$35*DOT!$H$18 -> 0
B14: =DFIE!$B$27 -> Obwalden | C14: ='SLA.AC-1'!D14 -> 0.021727711 | D14: ='SLA.AC-1'!H14 -> 0.056578085 | E14: ='SLA.AC-1'!L14 -> 0.069890575 | F14: =(C14-C$37)/C$38 -> -0.9739442 | G14: =(D14-D$37)/D$38 -> -0.39731322 | H14: =(E14-E$37)/E$38 -> -0.87611495 | I14: =I$5*F14 -> -0.45775377 | J14: =J$5*G14 -> -0.039731322 | K14: =K$5*H14 -> -0.37672943 | L14: =SUM(I14:K14) -> -0.87421452 | M14: =MAX(L14*'SLA.AC-1'!G14,0) -> 0 | N14: =M14/$M$35*DOT!$H$18 -> 0
B15: =DFIE!$B$28 -> Nidwalden | C15: ='SLA.AC-1'!D15 -> 0.0215737 | D15: ='SLA.AC-1'!H15 -> 0.062123718 | E15: ='SLA.AC-1'!L15 -> 0.071584519 | F15: =(C15-C$37)/C$38 -> -0.97890738 | G15: =(D15-D$37)/D$38 -> 0.33633147 | H15: =(E15-E$37)/E$38 -> -0.82312955 | I15: =I$5*F15 -> -0.46008647 | J15: =J$5*G15 -> 0.033633147 | K15: =K$5*H15 -> -0.35394571 | L15: =SUM(I15:K15) -> -0.78039903 | M15: =MAX(L15*'SLA.AC-1'!G15,0) -> 0 | N15: =M15/$M$35*DOT!$H$18 -> 0
B16: =DFIE!$B$29 -> Glarus | C16: ='SLA.AC-1'!D16 -> 0.036720027 | D16: ='SLA.AC-1'!H16 -> 0.060088268 | E16: ='SLA.AC-1'!L16 -> 0.10148451 | F16: =(C16-C$37)/C$38 -> -0.49080068 | G16: =(D16-D$37)/D$38 -> 0.067057038 | H16: =(E16-E$37)/E$38 -> 0.11212175 | I16: =I$5*F16 -> -0.23067632 | J16: =J$5*G16 -> 0.0067057038 | K16: =K$5*H16 -> 0.048212354 | L16: =SUM(I16:K16) -> -0.17575826 | M16: =MAX(L16*'SLA.AC-1'!G16,0) -> 0 | N16: =M16/$M$35*DOT!$H$18 -> 0
B17: =DFIE!$B$30 -> Zug | C17: ='SLA.AC-1'!D17 -> 0.028435684 | D17: ='SLA.AC-1'!H17 -> 0.053529636 | E17: ='SLA.AC-1'!L17 -> 0.14087888 | F17: =(C17-C$37)/C$38 -> -0.75777253 | G17: =(D17-D$37)/D$38 -> -0.80059958 | H17: =(E17-E$37)/E$38 -> 1.3443509 | I17: =I$5*F17 -> -0.35615309 | J17: =J$5*G17 -> -0.080059958 | K17: =K$5*H17 -> 0.57807089 | L17: =SUM(I17:K17) -> 0.14185784 | M17: =MAX(L17*'SLA.AC-1'!G17,0) -> 18971.926 | N17: =M17/$M$35*DOT!$H$18 -> 2028768.2
B18: =DFIE!$B$31 -> Freiburg | C18: ='SLA.AC-1'!D18 -> 0.042352617 | D18: ='SLA.AC-1'!H18 -> 0.044981741 | E18: ='SLA.AC-1'!L18 -> 0.10983229 | F18: =(C18-C$37)/C$38 -> -0.30928441 | G18: =(D18-D$37)/D$38 -> -1.9314205 | H18: =(E18-E$37)/E$38 -> 0.37323483 | I18: =I$5*F18 -> -0.14536367 | J18: =J$5*G18 -> -0.19314205 | K18: =K$5*H18 -> 0.16049098 | L18: =SUM(I18:K18) -> -0.17801474 | M18: =MAX(L18*'SLA.AC-1'!G18,0) -> 0 | N18: =M18/$M$35*DOT!$H$18 -> 0
B19: =DFIE!$B$32 -> Solothurn | C19: ='SLA.AC-1'!D19 -> 0.079256879 | D19: ='SLA.AC-1'!H19 -> 0.059011291 | E19: ='SLA.AC-1'!L19 -> 0.099367822 | F19: =(C19-C$37)/C$38 -> 0.87999517 | G19: =(D19-D$37)/D$38 -> -0.075418755 | H19: =(E19-E$37)/E$38 -> 0.045913331 | I19: =I$5*F19 -> 0.41359773 | J19: =J$5*G19 -> -0.0075418755 | K19: =K$5*H19 -> 0.019742732 | L19: =SUM(I19:K19) -> 0.42579859 | M19: =MAX(L19*'SLA.AC-1'!G19,0) -> 123393.02 | N19: =M19/$M$35*DOT!$H$18 -> 13195067
B20: =DFIE!$B$33 -> Basel-Stadt | C20: ='SLA.AC-1'!D20 -> 0.12803679 | D20: ='SLA.AC-1'!H20 -> 0.065938704 | E20: ='SLA.AC-1'!L20 -> 0.15216204 | F20: =(C20-C$37)/C$38 -> 2.4519804 | G20: =(D20-D$37)/D$38 -> 0.84102482 | H20: =(E20-E$37)/E$38 -> 1.6972806 | I20: =I$5*F20 -> 1.1524308 | J20: =J$5*G20 -> 0.084102482 | K20: =K$5*H20 -> 0.72983065 | L20: =SUM(I20:K20) -> 1.9663639 | M20: =MAX(L20*'SLA.AC-1'!G20,0) -> 395994.23 | N20: =M20/$M$35*DOT!$H$18 -> 42345753
B21: =DFIE!$B$34 -> Basel-Landschaft | C21: ='SLA.AC-1'!D21 -> 0.042420776 | D21: ='SLA.AC-1'!H21 -> 0.073817797 | E21: ='SLA.AC-1'!L21 -> 0.087865845 | F21: =(C21-C$37)/C$38 -> -0.30708788 | G21: =(D21-D$37)/D$38 -> 1.8833683 | H21: =(E21-E$37)/E$38 -> -0.31386072 | I21: =I$5*F21 -> -0.14433131 | J21: =J$5*G21 -> 0.18833683 | K21: =K$5*H21 -> -0.13496011 | L21: =SUM(I21:K21) -> -0.090954588 | M21: =MAX(L21*'SLA.AC-1'!G21,0) -> 0 | N21: =M21/$M$35*DOT!$H$18 -> 0
B22: =DFIE!$B$35 -> Schaffhausen | C22: ='SLA.AC-1'!D22 -> 0.053854804 | D22: ='SLA.AC-1'!H22 -> 0.066541103 | E22: ='SLA.AC-1'!L22 -> 0.095785354 | F22: =(C22-C$37)/C$38 -> 0.061385954 | G22: =(D22-D$37)/D$38 -> 0.92071759 | H22: =(E22-E$37)/E$38 -> -0.066143844 | I22: =I$5*F22 -> 0.028851398 | J22: =J$5*G22 -> 0.092071759 | K22: =K$5*H22 -> -0.028441853 | L22: =SUM(I22:K22) -> 0.092481304 | M22: =MAX(L22*'SLA.AC-1'!G22,0) -> 8200.0398 | N22: =M22/$M$35*DOT!$H$18 -> 876873.53
B23: =DFIE!$B$36 -> Appenzell A.Rh. | C23: ='SLA.AC-1'!D23 -> 0.036035535 | D23: ='SLA.AC-1'!H23 -> 0.058813156 | E23: ='SLA.AC-1'!L23 -> 0.062287276 | F23: =(C23-C$37)/C$38 -> -0.51285917 | G23: =(D23-D$37)/D$38 -> -0.1016305 | H23: =(E23-E$37)/E$38 -> -1.113941 | I23: =I$5*F23 -> -0.24104381 | J23: =J$5*G23 -> -0.01016305 | K23: =K$5*H23 -> -0.47899462 | L23: =SUM(I23:K23) -> -0.73020148 | M23: =MAX(L23*'SLA.AC-1'!G23,0) -> 0 | N23: =M23/$M$35*DOT!$H$18 -> 0
B24: =DFIE!$B$37 -> Appenzell I.Rh. | C24: ='SLA.AC-1'!D24 -> 0.01789387 | D24: ='SLA.AC-1'!H24 -> 0.060837865 | E24: ='SLA.AC-1'!L24 -> 0.052112592 | F24: =(C24-C$37)/C$38 -> -1.0974939 | G24: =(D24-D$37)/D$38 -> 0.16622301 | H24: =(E24-E$37)/E$38 -> -1.4321982 | I24: =I$5*F24 -> -0.51582211 | J24: =J$5*G24 -> 0.016622301 | K24: =K$5*H24 -> -0.61584523 | L24: =SUM(I24:K24) -> -1.115045 | M24: =MAX(L24*'SLA.AC-1'!G24,0) -> 0 | N24: =M24/$M$35*DOT!$H$18 -> 0
B25: =DFIE!$B$38 -> St. Gallen | C25: ='SLA.AC-1'!D25 -> 0.040806115 | D25: ='SLA.AC-1'!H25 -> 0.055425935 | E25: ='SLA.AC-1'!L25 -> 0.096862061 | F25: =(C25-C$37)/C$38 -> -0.35912208 | G25: =(D25-D$37)/D$38 -> -0.54973385 | H25: =(E25-E$37)/E$38 -> -0.032465184 | I25: =I$5*F25 -> -0.16878738 | J25: =J$5*G25 -> -0.054973385 | K25: =K$5*H25 -> -0.013960029 | L25: =SUM(I25:K25) -> -0.23772079 | M25: =MAX(L25*'SLA.AC-1'!G25,0) -> 0 | N25: =M25/$M$35*DOT!$H$18 -> 0
B26: =DFIE!$B$39 -> Graubünden | C26: ='SLA.AC-1'!D26 -> 0.024418883 | D26: ='SLA.AC-1'!H26 -> 0.066329352 | E26: ='SLA.AC-1'!L26 -> 0.082308939 | F26: =(C26-C$37)/C$38 -> -0.88721828 | G26: =(D26-D$37)/D$38 -> 0.89270455 | H26: =(E26-E$37)/E$38 -> -0.48767697 | I26: =I$5*F26 -> -0.41699259 | J26: =J$5*G26 -> 0.089270455 | K26: =K$5*H26 -> -0.2097011 | L26: =SUM(I26:K26) -> -0.53742323 | M26: =MAX(L26*'SLA.AC-1'!G26,0) -> 0 | N26: =M26/$M$35*DOT!$H$18 -> 0
B27: =DFIE!$B$40 -> Aargau | C27: ='SLA.AC-1'!D27 -> 0.031742968 | D27: ='SLA.AC-1'!H27 -> 0.052085598 | E27: ='SLA.AC-1'!L27 -> 0.10192469 | F27: =(C27-C$37)/C$38 -> -0.65119177 | G27: =(D27-D$37)/D$38 -> -0.99163467 | H27: =(E27-E$37)/E$38 -> 0.12589031 | I27: =I$5*F27 -> -0.30606013 | J27: =J$5*G27 -> -0.099163467 | K27: =K$5*H27 -> 0.054132835 | L27: =SUM(I27:K27) -> -0.35109076 | M27: =MAX(L27*'SLA.AC-1'!G27,0) -> 0 | N27: =M27/$M$35*DOT!$H$18 -> 0
B28: =DFIE!$B$41 -> Thurgau | C28: ='SLA.AC-1'!D28 -> 0.027364605 | D28: ='SLA.AC-1'!H28 -> 0.051520989 | E28: ='SLA.AC-1'!L28 -> 0.082037602 | F28: =(C28-C$37)/C$38 -> -0.79228921 | G28: =(D28-D$37)/D$38 -> -1.0663281 | H28: =(E28-E$37)/E$38 -> -0.49616421 | I28: =I$5*F28 -> -0.37237593 | J28: =J$5*G28 -> -0.10663281 | K28: =K$5*H28 -> -0.21335061 | L28: =SUM(I28:K28) -> -0.69235935 | M28: =MAX(L28*'SLA.AC-1'!G28,0) -> 0 | N28: =M28/$M$35*DOT!$H$18 -> 0
B29: =DFIE!$B$42 -> Tessin | C29: ='SLA.AC-1'!D29 -> 0.078899937 | D29: ='SLA.AC-1'!H29 -> 0.079790361 | E29: ='SLA.AC-1'!L29 -> 0.057659033 | F29: =(C29-C$37)/C$38 -> 0.86849235 | G29: =(D29-D$37)/D$38 -> 2.6734926 | H29: =(E29-E$37)/E$38 -> -1.2587093 | I29: =I$5*F29 -> 0.40819141 | J29: =J$5*G29 -> 0.26734926 | K29: =K$5*H29 -> -0.54124499 | L29: =SUM(I29:K29) -> 0.13429568 | M29: =MAX(L29*'SLA.AC-1'!G29,0) -> 48199.123 | N29: =M29/$M$35*DOT!$H$18 -> 5154186.6
B30: =DFIE!$B$43 -> Waadt | C30: ='SLA.AC-1'!D30 -> 0.099240897 | D30: ='SLA.AC-1'!H30 -> 0.051889473 | E30: ='SLA.AC-1'!L30 -> 0.14409909 | F30: =(C30-C$37)/C$38 -> 1.5240017 | G30: =(D30-D$37)/D$38 -> -1.0175805 | H30: =(E30-E$37)/E$38 -> 1.4450771 | I30: =I$5*F30 -> 0.71628078 | J30: =J$5*G30 -> -0.10175805 | K30: =K$5*H30 -> 0.62138317 | L30: =SUM(I30:K30) -> 1.2359059 | M30: =MAX(L30*'SLA.AC-1'!G30,0) -> 1056830.6 | N30: =M30/$M$35*DOT!$H$18 -> 1.1301247e+08
B31: =DFIE!$B$44 -> Wallis | C31: ='SLA.AC-1'!D31 -> 0.07070969 | D31: ='SLA.AC-1'!H31 -> 0.057790718 | E31: ='SLA.AC-1'!L31 -> 0.11023518 | F31: =(C31-C$37)/C$38 -> 0.60455281 | G31: =(D31-D$37)/D$38 -> -0.23689121 | H31: =(E31-E$37)/E$38 -> 0.38583694 | I31: =I$5*F31 -> 0.28413982 | J31: =J$5*G31 -> -0.023689121 | K31: =K$5*H31 -> 0.16590988 | L31: =SUM(I31:K31) -> 0.42636058 | M31: =MAX(L31*'SLA.AC-1'!G31,0) -> 158302.57 | N31: =M31/$M$35*DOT!$H$18 -> 16928129
B32: =DFIE!$B$45 -> Neuenburg | C32: ='SLA.AC-1'!D32 -> 0.083516682 | D32: ='SLA.AC-1'!H32 -> 0.062851636 | E32: ='SLA.AC-1'!L32 -> 0.1013436 | F32: =(C32-C$37)/C$38 -> 1.0172719 | G32: =(D32-D$37)/D$38 -> 0.43262942 | H32: =(E32-E$37)/E$38 -> 0.10771424 | I32: =I$5*F32 -> 0.4781178 | J32: =J$5*G32 -> 0.043262942 | K32: =K$5*H32 -> 0.046317125 | L32: =SUM(I32:K32) -> 0.56769786 | M32: =MAX(L32*'SLA.AC-1'!G32,0) -> 101911.99 | N32: =M32/$M$35*DOT!$H$18 -> 10897986
B33: =DFIE!$B$46 -> Genf | C33: ='SLA.AC-1'!D33 -> 0.12237832 | D33: ='SLA.AC-1'!H33 -> 0.05529258 | E33: ='SLA.AC-1'!L33 -> 0.19212505 | F33: =(C33-C$37)/C$38 -> 2.2696301 | G33: =(D33-D$37)/D$38 -> -0.56737559 | H33: =(E33-E$37)/E$38 -> 2.9472965 | I33: =I$5*F33 -> 1.0667262 | J33: =J$5*G33 -> -0.056737559 | K33: =K$5*H33 -> 1.2673375 | L33: =SUM(I33:K33) -> 2.2773261 | M33: =MAX(L33*'SLA.AC-1'!G33,0) -> 1209492.5 | N33: =M33/$M$35*DOT!$H$18 -> 1.2933741e+08
B34: =DFIE!$B$47 -> Jura | C34: ='SLA.AC-1'!D34 -> 0.070927909 | D34: ='SLA.AC-1'!H34 -> 0.064871726 | E34: ='SLA.AC-1'!L34 -> 0.065954035 | F34: =(C34-C$37)/C$38 -> 0.61158514 | G34: =(D34-D$37)/D$38 -> 0.69987185 | H34: =(E34-E$37)/E$38 -> -0.99924725 | I34: =I$5*F34 -> 0.28744502 | J34: =J$5*G34 -> 0.069987185 | K34: =K$5*H34 -> -0.42967632 | L34: =SUM(I34:K34) -> -0.072244115 | M34: =MAX(L34*'SLA.AC-1'!G34,0) -> 0 | N34: =M34/$M$35*DOT!$H$18 -> 0
B35: =DFIE!$B$48 -> Schweiz | M35: =SUM(M9:M34) -> 3289920.6 | N35: =SUM(N9:N34) -> 3.5180857e+08
B37: =DFIE!$B$153 -> Mittelwert (MW) | C37: =AVERAGE(C9:C34) -> 0.05194995 | D37: =AVERAGE(D9:D34) -> 0.059581383 | E37: =AVERAGE(E9:E34) -> 0.097899973 | F37: =AVERAGE(F9:F34) -> -3.5441735e-16 | G37: =AVERAGE(G9:G34) -> 1.1529239e-16 | H37: =AVERAGE(H9:H34) -> 7.2591505e-17 | I37: =AVERAGE(I9:I34) -> -1.5799328e-16 | J37: =AVERAGE(J9:J34) -> 1.1742744e-17 | ... L37: =AVERAGE(L9:L34) -> -1.0675221e-16
B38: =DFIE!$B$154 -> Standardabweichung | C38: =STDEV(C9:C34) -> 0.031030771 | D38: =STDEV(D9:D34) -> 0.0075590178 | E38: =STDEV(E9:E34) -> 0.031970003 | F38: =STDEV(F9:F34) -> 1 | G38: =STDEV(G9:G34) -> 1 | H38: =STDEV(H9:H34) -> 1 | I38: =STDEV(I9:I34) -> 0.47 | J38: =STDEV(J9:J34) -> 0.1 | ... L38: =STDEV(L9:L34) -> 0.80890969

Sheet SLA.F-1
B1: =DFIE!$B$156 -> Massgebende Sonderlasten Kernstädte (SLA F) 2027
B2: =DFIE!$B$160 -> (Teil-)Indikatoren Gemeinden
B4: =DFIE!$B$49 -> Spalte | C4: C | D4: D | E4: E | F4: F | G4: G | H4: H | I4: I | J4: J | K4: K | L4: L | M4: M | N4: N
B5: =DFIE!$B$50 -> Formel | H5: (G + E) / F | I5: E / G | M5: J + K + L | N5: M * G
B6: =DFIE!$B$157 -> Gewicht (ω) | J6: 0.36 | K6: 0.38 | L6: 0.26
G7: =DFIE!$B$169 -> Teilindikatoren | J7: =DFIE!$B$170 -> Gewichtete standardisierte Teilindikatoren | M7: =DFIE!$B$171 -> Lastenindex Gemeinde | N7: =DFIE!$B$172 -> Lastenindex Gemeinde gewichtet
B8: =DFIE!$B$161 -> Kantons- nummer BFS | C8: =DFIE!$B$162 -> Gemeinde- nummer BFS | D8: =DFIE!$B$163 -> Gemeindebezeichnung | E8: =DFIE!$B$165 -> Beschäf- tigung | F8: =DFIE!$B$166 -> Produktive Fläche | G8: =DFIE!$B$164 -> Ständige Wohnbe- völkerung | H8: =DFIE!$B$168 -> Siedlungs- dichte | I8: =DFIE!$B$167 -> Beschäfti- gungs- quote | J8: =DFIE!$B$164 -> Ständige Wohnbe- völkerung | K8: =DFIE!$B$168 -> Siedlungs- dichte | L8: =DFIE!$B$167 -> Beschäfti- gungs- quote
B9: =DFIE!$B$51 -> Erhebungsjahr | E9: 2023 | F9: 2024 | G9: 2024
B10: =DFIE!$B$158 -> Mittelwert | G10: =AVERAGE(G13:G2500) -> 4267.3404 | H10: =AVERAGE(H13:H2500) -> 7.3445908 | I10: =AVERAGE(I13:I2500) -> 0.42248209
B11: =DFIE!$B$154 -> Standardabweichung | G11: =STDEV(G13:G2500) -> 13516.58 | H11: =STDEV(H13:H2500) -> 14.917625 | I11: =STDEV(I13:I2500) -> 0.30526142
B12: =DFIE!$B$52 -> Einheit | E12: =DFIE!$B$56 -> Anzahl | F12: =DFIE!$B$59 -> Hektaren | G12: =DFIE!$B$56 -> Anzahl | H12: =DFIE!$B$58 -> Prozent
B13: 1 | C13: 1 | D13: Aeugst am Albis | E13: 436 | F13: 744 | G13: 1995 | H13: =(G13+E13)/F13 -> 3.2674731 | I13: =E13/G13 -> 0.21854637 | J13: =$J$6*(G13-G$10)/G$11 -> -0.060521416 | K13: =$K$6*(H13-H$10)/H$11 -> -0.10385733 | L13: =$L$6*(I13-I$10)/I$11 -> -0.17369797 | M13: =SUM(J13:L13) -> -0.33807671 | N13: =M13*G13 -> -674.46304
B14: 1 | C14: 2 | D14: Affoltern am Albis | E14: 7036 | F14: 1042 | G14: 12882 | H14: =(G14+E14)/F14 -> 19.115163 | I14: =E14/G14 -> 0.54618848 | J14: =$J$6*(G14-G$10)/G$11 -> 0.22944247 | K14: =$K$6*(H14-H$10)/H$11 -> 0.29983442 | L14: =$L$6*(I14-I$10)/I$11 -> 0.10536432 | M14: =SUM(J14:L14) -> 0.63464122 | N14: =M14*G14 -> 8175.4482
B15: 1 | C15: 3 | D15: Bonstetten | E15: 1069 | F15: 736 | G15: 5712 | H15: =(G15+E15)/F15 -> 9.2133152 | I15: =E15/G15 -> 0.18714986 | J15: =$J$6*(G15-G$10)/G$11 -> 0.038477001 | K15: =$K$6*(H15-H$10)/H$11 -> 0.047602434 | L15: =$L$6*(I15-I$10)/I$11 -> -0.20043928 | M15: =SUM(J15:L15) -> -0.11435984 | N15: =M15*G15 -> -653.22343
B16: 1 | C16: 4 | D16: Hausen am Albis | E16: 1099 | F16: 1330 | G16: 3951 | H16: =(G16+E16)/F16 -> 3.7969925 | I16: =E16/G16 -> 0.27815743 | J16: =$J$6*(G16-G$10)/G$11 -> -0.0084253967 | K16: =$K$6*(H16-H$10)/H$11 -> -0.090368767 | L16: =$L$6*(I16-I$10)/I$11 -> -0.12292549 | M16: =SUM(J16:L16) -> -0.22171966 | N16: =M16*G16 -> -876.01437
B17: 1 | C17: 5 | D17: Hedingen | E17: 1369 | F17: 650 | G17: 4002 | H17: =(G17+E17)/F17 -> 8.2630769 | I17: =E17/G17 -> 0.34207896 | J17: =$J$6*(G17-G$10)/G$11 -> -0.0070670649 | K17: =$K$6*(H17-H$10)/H$11 -> 0.023396801 | L17: =$L$6*(I17-I$10)/I$11 -> -0.068481672 | M17: =SUM(J17:L17) -> -0.052151936 | N17: =M17*G17 -> -208.71205
B18: 1 | C18: 6 | D18: Kappel am Albis | E18: 393 | F18: 773 | G18: 1382 | H18: =(G18+E18)/F18 -> 2.2962484 | I18: =E18/G18 -> 0.28437048 | J18: =$J$6*(G18-G$10)/G$11 -> -0.076848032 | K18: =$K$6*(H18-H$10)/H$11 -> -0.12859756 | L18: =$L$6*(I18-I$10)/I$11 -> -0.11763366 | M18: =SUM(J18:L18) -> -0.32307925 | N18: =M18*G18 -> -446.49552
B19: 1 | C19: 7 | D19: Knonau | E19: 572 | F19: 631 | G19: 2466 | H19: =(G19+E19)/F19 -> 4.81458 | I19: =E19/G19 -> 0.23195458 | J19: =$J$6*(G19-G$10)/G$11 -> -0.047976823 | K19: =$K$6*(H19-H$10)/H$11 -> -0.064447532 | L19: =$L$6*(I19-I$10)/I$11 -> -0.1622778 | M19: =SUM(J19:L19) -> -0.27470215 | N19: =M19*G19 -> -677.41551
B20: 1 | C20: 8 | D20: Maschwanden | E20: 188 | F20: 425 | G20: 677 | H20: =(G20+E20)/F20 -> 2.0352941 | I20: =E20/G20 -> 0.27769572 | J20: =$J$6*(G20-G$10)/G$11 -> -0.095624971 | K20: =$K$6*(H20-H$10)/H$11 -> -0.1352449 | L20: =$L$6*(I20-I$10)/I$11 -> -0.12331875 | M20: =SUM(J20:L20) -> -0.35418862 | N20: =M20*G20 -> -239.7857
B21: 1 | C21: 9 | D21: Mettmenstetten | E21: 1755 | F21: 1295 | G21: 5763 | H21: =(G21+E21)/F21 -> 5.8054054 | I21: =E21/G21 -> 0.30452889 | J21: =$J$6*(G21-G$10)/G$11 -> 0.039835333 | K21: =$K$6*(H21-H$10)/H$11 -> -0.039208015 | L21: =$L$6*(I21-I$10)/I$11 -> -0.10046416 | M21: =SUM(J21:L21) -> -0.099836837 | N21: =M21*G21 -> -575.35969
B22: 1 | C22: 10 | D22: Obfelden | E22: 1546 | F22: 717 | G22: 5961 | H22: =(G22+E22)/F22 -> 10.470014 | I22: =E22/G22 -> 0.25935246 | J22: =$J$6*(G22-G$10)/G$11 -> 0.045108856 | K22: =$K$6*(H22-H$10)/H$11 -> 0.079614602 | L22: =$L$6*(I22-I$10)/I$11 -> -0.13894223 | M22: =SUM(J22:L22) -> -0.014218775 | N22: =M22*G22 -> -84.758116
B23: 1 | C23: 11 | D23: Ottenbach | E23: 762 | F23: 479 | G23: 2973 | H23: =(G23+E23)/F23 -> 7.7974948 | I23: =E23/G23 -> 0.25630676 | J23: =$J$6*(G23-G$10)/G$11 -> -0.034473406 | K23: =$K$6*(H23-H$10)/H$11 -> 0.011536923 | L23: =$L$6*(I23-I$10)/I$11 -> -0.14153634 | M23: =SUM(J23:L23) -> -0.16447282 | N23: =M23*G23 -> -488.97771
B24: 1 | C24: 12 | D24: Rifferswil | E24: 308 | F24: 644 | G24: 1180 | H24: =(G24+E24)/F24 -> 2.310559 | I24: =E24/G24 -> 0.26101695 | J24: =$J$6*(G24-G$10)/G$11 -> -0.082228091 | K24: =$K$6*(H24-H$10)/H$11 -> -0.12823302 | L24: =$L$6*(I24-I$10)/I$11 -> -0.13752454 | M24: =SUM(J24:L24) -> -0.34798565 | N24: =M24*G24 -> -410.62307
... B2133: 26 | C2133: 6812 | D2133: Basse-Vendline | E2133: 442 | F2133: 1841 | G2133: 736 | H2133: =(G2133+E2133)/F2133 -> 0.63986964 | I2133: =E2133/G2133 -> 0.60054348 | J2133: =$J$6*(G2133-G$10)/G$11 -> -0.094053568 | K2133: =$K$6*(H2133-H$10)/H$11 -> -0.17079086 | L2133: =$L$6*(I2133-I$10)/I$11 -> 0.15166005 | M2133: =SUM(J2133:L2133) -> -0.11318438 | N2133: =M2133*G2133 -> -83.303704

Sheet SLA.F-2
B1: =DFIE!B173 -> Auszahlungen SLA F 2027
B5: =DFIE!$B$49 -> Spalte | C5: C | D5: D | E5: E | F5: F | G5: G
B6: =DFIE!$B$50 -> Formel | E6: C / D | F6: =DFIE!$B$180 -> D * (E - E[MW]) | G6: =DFIE!$B$181 -> F / F[Schweiz] * Dot
C7: =DFIE!$B$175 -> Summe Lastenindex Gemeinde | D7: =DFIE!$B$174 -> Ständige Wohnbe- völkerung | E7: =DFIE!$B$176 -> Kernstadt- indikator | F7: =DFIE!$B$178 -> Massgebende Sonderlasten | G7: =DFIE!$B$179 -> Auszahlung SLA F
B8: =DFIE!$B$52 -> Einheit | C8: =DFIE!$B$56 -> Anzahl | D8: =DFIE!$B$56 -> Anzahl | G8: =DFIE!$B$54 -> CHF
B9: =DFIE!$B$22 -> Zürich | C9: =SUMIF('SLA.F-1'!$B$9:$B$2500,1,'SLA.F-1'!$N$9:$N$2500) -> 7688635.5 | D9: =SUMIF('SLA.F-1'!$B$9:$B$2500,1,'SLA.F-1'!$G$9:$G$2500) -> 1620020 | E9: =C9/D9 -> 4.7460127 | F9: =MAX(D9*(E9-$E$37),0) -> 5731733.7 | G9: =F9/F$35*DOT!$I$18 -> 99388672
B10: =DFIE!$B$23 -> Bern | C10: =SUMIF('SLA.F-1'!$B$9:$B$2500,2,'SLA.F-1'!$N$9:$N$2500) -> 1256189.2 | D10: =SUMIF('SLA.F-1'!$B$9:$B$2500,2,'SLA.F-1'!$G$9:$G$2500) -> 1071216 | E10: =C10/D10 -> 1.1726759 | F10: =MAX(D10*(E10-$E$37),0) -> 0 | G10: =F10/F$35*DOT!$I$18 -> 0
B11: =DFIE!$B$24 -> Luzern | C11: =SUMIF('SLA.F-1'!$B$9:$B$2500,3,'SLA.F-1'!$N$9:$N$2500) -> 473455.67 | D11: =SUMIF('SLA.F-1'!$B$9:$B$2500,3,'SLA.F-1'!$G$9:$G$2500) -> 437944 | E11: =C11/D11 -> 1.0810872 | F11: =MAX(D11*(E11-$E$37),0) -> 0 | G11: =F11/F$35*DOT!$I$18 -> 0
B12: =DFIE!$B$25 -> Uri | C12: =SUMIF('SLA.F-1'!$B$9:$B$2500,4,'SLA.F-1'!$N$9:$N$2500) -> 2736.4138 | D12: =SUMIF('SLA.F-1'!$B$9:$B$2500,4,'SLA.F-1'!$G$9:$G$2500) -> 38275 | E12: =C12/D12 -> 0.071493502 | F12: =MAX(D12*(E12-$E$37),0) -> 0 | G12: =F12/F$35*DOT!$I$18 -> 0
B13: =DFIE!$B$26 -> Schwyz | C13: =SUMIF('SLA.F-1'!$B$9:$B$2500,5,'SLA.F-1'!$N$9:$N$2500) -> 62799.134 | D13: =SUMIF('SLA.F-1'!$B$9:$B$2500,5,'SLA.F-1'!$G$9:$G$2500) -> 168931 | E13: =C13/D13 -> 0.37174428 | F13: =MAX(D13*(E13-$E$37),0) -> 0 | G13: =F13/F$35*DOT!$I$18 -> 0
B14: =DFIE!$B$27 -> Obwalden | C14: =SUMIF('SLA.F-1'!$B$9:$B$2500,6,'SLA.F-1'!$N$9:$N$2500) -> 3015.8755 | D14: =SUMIF('SLA.F-1'!$B$9:$B$2500,6,'SLA.F-1'!$G$9:$G$2500) -> 39662 | E14: =C14/D14 -> 0.076039421 | F14: =MAX(D14*(E14-$E$37),0) -> 0 | G14: =F14/F$35*DOT!$I$18 -> 0
B15: =DFIE!$B$28 -> Nidwalden | C15: =SUMIF('SLA.F-1'!$B$9:$B$2500,7,'SLA.F-1'!$N$9:$N$2500) -> 6908.8446 | D15: =SUMIF('SLA.F-1'!$B$9:$B$2500,7,'SLA.F-1'!$G$9:$G$2500) -> 45345 | E15: =C15/D15 -> 0.15236177 | F15: =MAX(D15*(E15-$E$37),0) -> 0 | G15: =F15/F$35*DOT!$I$18 -> 0
B16: =DFIE!$B$29 -> Glarus | C16: =SUMIF('SLA.F-1'!$B$9:$B$2500,8,'SLA.F-1'!$N$9:$N$2500) -> 11492.369 | D16: =SUMIF('SLA.F-1'!$B$9:$B$2500,8,'SLA.F-1'!$G$9:$G$2500) -> 42371 | E16: =C16/D16 -> 0.27123195 | F16: =MAX(D16*(E16-$E$37),0) -> 0 | G16: =F16/F$35*DOT!$I$18 -> 0
B17: =DFIE!$B$30 -> Zug | C17: =SUMIF('SLA.F-1'!$B$9:$B$2500,9,'SLA.F-1'!$N$9:$N$2500) -> 164499.97 | D17: =SUMIF('SLA.F-1'!$B$9:$B$2500,9,'SLA.F-1'!$G$9:$G$2500) -> 133739 | E17: =C17/D17 -> 1.2300075 | F17: =MAX(D17*(E17-$E$37),0) -> 2950.0581 | G17: =F17/F$35*DOT!$I$18 -> 51154.218
B18: =DFIE!$B$31 -> Freiburg | C18: =SUMIF('SLA.F-1'!$B$9:$B$2500,10,'SLA.F-1'!$N$9:$N$2500) -> 151151.15 | D18: =SUMIF('SLA.F-1'!$B$9:$B$2500,10,'SLA.F-1'!$G$9:$G$2500) -> 346674 | E18: =C18/D18 -> 0.43600372 | F18: =MAX(D18*(E18-$E$37),0) -> 0 | G18: =F18/F$35*DOT!$I$18 -> 0
B19: =DFIE!$B$32 -> Solothurn | C19: =SUMIF('SLA.F-1'!$B$9:$B$2500,11,'SLA.F-1'!$N$9:$N$2500) -> 104138.14 | D19: =SUMIF('SLA.F-1'!$B$9:$B$2500,11,'SLA.F-1'!$G$9:$G$2500) -> 289792 | E19: =C19/D19 -> 0.35935478 | F19: =MAX(D19*(E19-$E$37),0) -> 0 | G19: =F19/F$35*DOT!$I$18 -> 0
B20: =DFIE!$B$33 -> Basel-Stadt | C20: =SUMIF('SLA.F-1'!$B$9:$B$2500,12,'SLA.F-1'!$N$9:$N$2500) -> 1656255 | D20: =SUMIF('SLA.F-1'!$B$9:$B$2500,12,'SLA.F-1'!$G$9:$G$2500) -> 201384 | E20: =C20/D20 -> 8.2243624 | F20: =MAX(D20*(E20-$E$37),0) -> 1412993.4 | G20: =F20/F$35*DOT!$I$18 -> 24501406
B21: =DFIE!$B$34 -> Basel-Landschaft | C21: =SUMIF('SLA.F-1'!$B$9:$B$2500,13,'SLA.F-1'!$N$9:$N$2500) -> 201906.27 | D21: =SUMIF('SLA.F-1'!$B$9:$B$2500,13,'SLA.F-1'!$G$9:$G$2500) -> 301323 | E21: =C21/D21 -> 0.67006592 | F21: =MAX(D21*(E21-$E$37),0) -> 0 | G21: =F21/F$35*DOT!$I$18 -> 0
B22: =DFIE!$B$35 -> Schaffhausen | C22: =SUMIF('SLA.F-1'!$B$9:$B$2500,14,'SLA.F-1'!$N$9:$N$2500) -> 56240.133 | D22: =SUMIF('SLA.F-1'!$B$9:$B$2500,14,'SLA.F-1'!$G$9:$G$2500) -> 88667 | E22: =C22/D22 -> 0.63428483 | F22: =MAX(D22*(E22-$E$37),0) -> 0 | G22: =F22/F$35*DOT!$I$18 -> 0
B23: =DFIE!$B$36 -> Appenzell A.Rh. | C23: =SUMIF('SLA.F-1'!$B$9:$B$2500,15,'SLA.F-1'!$N$9:$N$2500) -> 5610.4562 | D23: =SUMIF('SLA.F-1'!$B$9:$B$2500,15,'SLA.F-1'!$G$9:$G$2500) -> 56705 | E23: =C23/D23 -> 0.09894112 | F23: =MAX(D23*(E23-$E$37),0) -> 0 | G23: =F23/F$35*DOT!$I$18 -> 0
B24: =DFIE!$B$37 -> Appenzell I.Rh. | C24: =SUMIF('SLA.F-1'!$B$9:$B$2500,16,'SLA.F-1'!$N$9:$N$2500) -> 622.25487 | D24: =SUMIF('SLA.F-1'!$B$9:$B$2500,16,'SLA.F-1'!$G$9:$G$2500) -> 16733 | E24: =C24/D24 -> 0.037187287 | F24: =MAX(D24*(E24-$E$37),0) -> 0 | G24: =F24/F$35*DOT!$I$18 -> 0
B25: =DFIE!$B$38 -> St. Gallen | C25: =SUMIF('SLA.F-1'!$B$9:$B$2500,17,'SLA.F-1'!$N$9:$N$2500) -> 436860.07 | D25: =SUMIF('SLA.F-1'!$B$9:$B$2500,17,'SLA.F-1'!$G$9:$G$2500) -> 540036 | E25: =C25/D25 -> 0.8089462 | F25: =MAX(D25*(E25-$E$37),0) -> 0 | G25: =F25/F$35*DOT!$I$18 -> 0
B26: =DFIE!$B$39 -> Graubünden | C26: =SUMIF('SLA.F-1'!$B$9:$B$2500,18,'SLA.F-1'!$N$9:$N$2500) -> 61050.591 | D26: =SUMIF('SLA.F-1'!$B$9:$B$2500,18,'SLA.F-1'!$G$9:$G$2500) -> 206138 | E26: =C26/D26 -> 0.29616369 | F26: =MAX(D26*(E26-$E$37),0) -> 0 | G26: =F26/F$35*DOT!$I$18 -> 0
B27: =DFIE!$B$40 -> Aargau | C27: =SUMIF('SLA.F-1'!$B$9:$B$2500,19,'SLA.F-1'!$N$9:$N$2500) -> 254883.54 | D27: =SUMIF('SLA.F-1'!$B$9:$B$2500,19,'SLA.F-1'!$G$9:$G$2500) -> 735808 | E27: =C27/D27 -> 0.34639952 | F27: =MAX(D27*(E27-$E$37),0) -> 0 | G27: =F27/F$35*DOT!$I$18 -> 0
B28: =DFIE!$B$41 -> Thurgau | C28: =SUMIF('SLA.F-1'!$B$9:$B$2500,20,'SLA.F-1'!$N$9:$N$2500) -> 97690.86 | D28: =SUMIF('SLA.F-1'!$B$9:$B$2500,20,'SLA.F-1'!$G$9:$G$2500) -> 299509 | E28: =C28/D28 -> 0.32617003 | F28: =MAX(D28*(E28-$E$37),0) -> 0 | G28: =F28/F$35*DOT!$I$18 -> 0
B29: =DFIE!$B$42 -> Tessin | C29: =SUMIF('SLA.F-1'!$B$9:$B$2500,21,'SLA.F-1'!$N$9:$N$2500) -> 322014.34 | D29: =SUMIF('SLA.F-1'!$B$9:$B$2500,21,'SLA.F-1'!$G$9:$G$2500) -> 358903 | E29: =C29/D29 -> 0.89721831 | F29: =MAX(D29*(E29-$E$37),0) -> 0 | G29: =F29/F$35*DOT!$I$18 -> 0
B30: =DFIE!$B$43 -> Waadt | C30: =SUMIF('SLA.F-1'!$B$9:$B$2500,22,'SLA.F-1'!$N$9:$N$2500) -> 1339987.5 | D30: =SUMIF('SLA.F-1'!$B$9:$B$2500,22,'SLA.F-1'!$G$9:$G$2500) -> 855106 | E30: =C30/D30 -> 1.5670426 | F30: =MAX(D30*(E30-$E$37),0) -> 307062.91 | G30: =F30/F$35*DOT!$I$18 -> 5324492.8
B31: =DFIE!$B$44 -> Wallis | C31: =SUMIF('SLA.F-1'!$B$9:$B$2500,23,'SLA.F-1'!$N$9:$N$2500) -> 104431.59 | D31: =SUMIF('SLA.F-1'!$B$9:$B$2500,23,'SLA.F-1'!$G$9:$G$2500) -> 371288 | E31: =C31/D31 -> 0.28126842 | F31: =MAX(D31*(E31-$E$37),0) -> 0 | G31: =F31/F$35*DOT!$I$18 -> 0
B32: =DFIE!$B$45 -> Neuenburg | C32: =SUMIF('SLA.F-1'!$B$9:$B$2500,24,'SLA.F-1'!$N$9:$N$2500) -> 153889.67 | D32: =SUMIF('SLA.F-1'!$B$9:$B$2500,24,'SLA.F-1'!$G$9:$G$2500) -> 179518 | E32: =C32/D32 -> 0.85723809 | F32: =MAX(D32*(E32-$E$37),0) -> 0 | G32: =F32/F$35*DOT!$I$18 -> 0
B33: =DFIE!$B$46 -> Genf | C33: =SUMIF('SLA.F-1'!$B$9:$B$2500,25,'SLA.F-1'!$N$9:$N$2500) -> 3331184.8 | D33: =SUMIF('SLA.F-1'!$B$9:$B$2500,25,'SLA.F-1'!$G$9:$G$2500) -> 531102 | E33: =C33/D33 -> 6.2722129 | F33: =MAX(D33*(E33-$E$37),0) -> 2689640.6 | G33: =F33/F$35*DOT!$I$18 -> 46638561
B34: =DFIE!$B$47 -> Jura | C34: =SUMIF('SLA.F-1'!$B$9:$B$2500,26,'SLA.F-1'!$N$9:$N$2500) -> 9067.9308 | D34: =SUMIF('SLA.F-1'!$B$9:$B$2500,26,'SLA.F-1'!$G$9:$G$2500) -> 74840 | E34: =C34/D34 -> 0.12116423 | F34: =MAX(D34*(E34-$E$37),0) -> 0 | G34: =F34/F$35*DOT!$I$18 -> 0
B35: =DFIE!$B$48 -> Schweiz | D35: =SUM(D9:D34) -> 9051029 | F35: =SUM(F9:F34) -> 10144381 | G35: =SUM(G9:G34) -> 1.7590429e+08
B37: =DFIE!$B$183 -> Mittelwert (MW) | E37: =AVERAGE(E9:E34) -> 1.2079492

Sheet DFIE
B2: Beschriftung der Tabellen | D2: Sprache | G2: Referenzjahr | I2: Version | J2: 26.0
B3: Auswahl der Sprache | D3: Deutsch | G3: =INTRO!$D$41 -> 2027 | I3: Datum | J3: 45687
D4: Français
B5: Die Sprache wird über das Steuerelement auf dem | D5: Italiano
B6: Tabellenblatt "INTRO" ausgewählt. | D6: English
D7: 1
B9: =INDIRECT(ADDRESS(ROW(),$D$7+3)) -> Deutsch | D9: Deutsch | E9: Français | F9: Italiano | G9: English
B10: =INDIRECT(ADDRESS(ROW(),$D$7+3)) -> Eidgenössisches Finanzdepartement EFD | D10: Eidgenössisches Finanzdepartement EFD | E10: Département fédéral des finances DFF | F10: Dipartimento federale delle finanze DFF | G10: Federal Department of Finance FDF
B11: =INDIRECT(ADDRESS(ROW(),$D$7+3)) -> Eidgenössische Finanzverwaltung EFV | D11: Eidgenössische Finanzverwaltung EFV | E11: Administration fédérale des finances AFF | F11: Amministrazione federale delle finanze AFF | G11: Federal Finance Administration FFA
B12: =INDIRECT(ADDRESS(ROW(),$D$7+3)) -> Finanzausgleich zwischen Bund und Kantonen | D12: Finanzausgleich zwischen Bund und Kantonen | E12: Péréquation financière entre la Confédération et les cantons | F12: Perequazione finanziaria tra Confederazione e Cantoni | G12: Fiscal equalization between the Confederation and the cantons
B13: =INDIRECT(ADDRESS(ROW(),$D$7+3)) -> Lastenausgleich 2027 | D13: ="Lastenausgleich " & $G$3 -> Lastenausgleich 2027 | E13: ="Compensation des charges " & $G$3 -> Compensation des charges 2027 | F13: ="Compensazione degli oneri " & $G$3 -> Compensazione degli oneri 2027 | G13: ="Cost compensation " & $G$3 -> Cost compensation 2027
B14: =INDIRECT(ADDRESS(ROW(),$D$7+3)) -> Übersicht über die Zahlungen im Lastenausgleich | D14: Übersicht über die Zahlungen im Lastenausgleich | E14: Aperçu des paiements au titre de la compensation des charges | F14: Panoramica dei pagamenti nella compensazione degli oneri | G14: Overview of cost compensation payments
B15: =INDIRECT(ADDRESS(ROW(),$D$7+3)) -> Berechnung der Dotationen im Lastenausgleich | D15: Berechnung der Dotationen im Lastenausgleich | E15: Calcul des dotations de la compensation des charges | F15: Calcolo delle dotazioni nella compensazione degli oneri | G15: Calculation of cost compensation endowments
B16: =INDIRECT(ADDRESS(ROW(),$D$7+3)) -> Daten geografischer Lastenausgleich | D16: Daten geografischer Lastenausgleich | E16: Données concernant la compensation des charges géo-topographiques | F16: Dati della compensazione dell'aggravio geotopografico | G16: Geographical cost compensation data
B17: =INDIRECT(ADDRESS(ROW(),$D$7+3)) -> Zahlungen geografischer Lastenausgleich | D17: Zahlungen geografischer Lastenausgleich | E17: Paiements au titre de la compensation des charges géo-topographiques | F17: Pagamenti della compensazione dell'aggravio geotopografico | G17: Geographical cost compensation payments
B18: =INDIRECT(ADDRESS(ROW(),$D$7+3)) -> Daten soziodemografischer Lastenausgleich A-C | D18: Daten soziodemografischer Lastenausgleich A-C | E18: Données concernant la compensation des charges socio-démographiques A-C | F18: Dati della compensazione dell'aggravio sociodemografico A-C | G18: Socio-demographic cost compensation data A-C
B19: =INDIRECT(ADDRESS(ROW(),$D$7+3)) -> Zahlungen soziodemografischer Lastenausgleich A-C | D19: Zahlungen soziodemografischer Lastenausgleich A-C | E19: Paiements au titre de la compensation des charges socio-démographiques A-C | F19: Pagamenti della compensazione dell'aggravio sociodemografico A-C | G19: Socio-demographic cost compensation payments A-C
B20: =INDIRECT(ADDRESS(ROW(),$D$7+3)) -> Daten soziodemografischer Lastenausgleich F | D20: Daten soziodemografischer Lastenausgleich F | E20: Données concernant la compensation des charges socio-démographiques F | F20: Dati della compensazione dell'aggravio sociodemografico F | G20: Socio-demographic cost compensation data F
B21: =INDIRECT(ADDRESS(ROW(),$D$7+3)) -> Zahlungen soziodemografischer Lastenausgleich F | D21: Zahlungen soziodemografischer Lastenausgleich F | E21: Paiements au titre de la compensation des charges socio-démographiques F | F21: Pagamenti della compensazione dell'aggravio sociodemografico F | G21: Socio-demographic cost compensation payments F
B22: =INDIRECT(ADDRESS(ROW(),$D$7+3)) -> Zürich | D22: Zürich | E22: Zurich | F22: Zurigo | G22: Zurich
B23: =INDIRECT(ADDRESS(ROW(),$D$7+3)) -> Bern | D23: Bern | E23: Berne | F23: Berna | G23: Bern
B24: =INDIRECT(ADDRESS(ROW(),$D$7+3)) -> Luzern | D24: Luzern | E24: Lucerne | F24: Lucerna | G24: Luzern
B25: =INDIRECT(ADDRESS(ROW(),$D$7+3)) -> Uri | D25: Uri | E25: Uri | F25: Uri | G25: Uri
... B64: =INDIRECT(ADDRESS(ROW(),$D$7+3)) -> Berechnungs-ID | D64: Berechnungs-ID | E64: Code de calcul | F64: Codice calcolo | G64: Calculation ID
B65: =INDIRECT(ADDRESS(ROW(),$D$7+3)) -> Zahlungen im | C65: TOTAL | D65: Zahlungen im | E65: Paiements au titre de la | F65: Pagamenti nella | G65: Payments in
B66: =INDIRECT(ADDRESS(ROW(),$D$7+3)) -> Lastenausgleich 2027 | D66: ="Lastenausgleich " & $G$3 -> Lastenausgleich 2027 | E66: ="compensation des charges " & $G$3 -> compensation des charges 2027 | F66: ="Compensazione degli oneri " & $G$3 -> Compensazione degli oneri 2027 | G66: ="cost compensation " & $G$3 -> cost compensation 2027
B67: =INDIRECT(ADDRESS(ROW(),$D$7+3)) -> Auszahlungen in CHF | D67: Auszahlungen in CHF | E67: Montants reçus, en francs | F67: Versamenti in CHF | G67: Outpayments in CHF
B68: =INDIRECT(ADDRESS(ROW(),$D$7+3)) -> Geografisch- topografischer Lastenausgleich | D68: Geografisch- topografischer Lastenausgleich | E68: Compensation des charges géo- topographiques | F68: Perequazione dell'aggravio geotopografico | G68: Geographical/ topographic cost compensation
B69: =INDIRECT(ADDRESS(ROW(),$D$7+3)) -> GLA | D69: GLA | E69: CCG | F69: PAG | G69: GCC
B70: =INDIRECT(ADDRESS(ROW(),$D$7+3)) -> Soziodemografischer Lastenausgleich | D70: Soziodemografischer Lastenausgleich | E70: Compensation des charges socio-démographiques | F70: Perequazione dell'aggravio sociodemografico | G70: Socio-demographic cost compensation
B71: =INDIRECT(ADDRESS(ROW(),$D$7+3)) -> SLA A-C | D71: SLA A-C | E71: CCS A-C | F71: PAS A-C | G71: SCC A-C
B72: =INDIRECT(ADDRESS(ROW(),$D$7+3)) -> SLA F | D72: SLA F | E72: CCS F | F72: PAS F | G72: SCC F
B73: =INDIRECT(ADDRESS(ROW(),$D$7+3)) -> Die Berechnung des Lastenausgleichs wird im Technischen Bericht detailliert beschrieben: www.efv.admin.ch → Themen → Finanzausgleich → Dokumentation | D73: Die Berechnung des Lastenausgleichs wird im Technischen Bericht detailliert beschrieben: www.efv.admin.ch → Themen → Finanzausgleich → Dokumentation | E73: Le calcul de la compensation des charges est décrit en détail dans la documentation technique: www.efv.admin.ch → Thèmes → Péréquation financière → Documentation | F73: Il calcolo della compensazione degli oneri è descritto in modo dettagliato nel rapporto tecnico: www.efv.admin.ch → Temi → Perequazione finanziaria → Documentazione | G73: The calculation of cost compensation is described in detail in the technical report: www.efv.admin.ch → Topics → Fiscal equalization → Documentation
B74: =INDIRECT(ADDRESS(ROW(),$D$7+3)) -> Berechnung der Dotationen im Lastenausgleich 2027 | C74: DOT | D74: ="Berechnung der Dotationen im Lastenausgleich " & $G$3 -> Berechnung der Dotationen im Lastenausgleich 2027 | E74: ="Calcul des dotations de la compensation des charges " & $G$3 -> Calcul des dotations de la compensation des charges 2027 | F74: ="Calcolo delle dotazioni nella compensazione degli oneri " & $G$3 -> Calcolo delle dotazioni nella compensazione degli oneri 2027 | G74: ="Calculation of cost compensation endowments " & $G$3 -> Calculation of cost compensation endowments 2027
B75: =INDIRECT(ADDRESS(ROW(),$D$7+3)) -> in CHF | D75: in CHF | E75: En francs | F75: in CHF | G75: in CHF
B76: =INDIRECT(ADDRESS(ROW(),$D$7+3)) -> Geografisch-topografischer Lastenausgleich (GLA) | D76: Geografisch-topografischer Lastenausgleich (GLA) | E76: Compensation des charges dues à des facteurs géo-topographiques (CCG) | F76: Perequazione dell'aggravio geotopografico (PAG) | G76: Geographical/topographic cost compensation (GCC)
B77: =INDIRECT(ADDRESS(ROW(),$D$7+3)) -> Soziodemografischer Lastenausgleich (SLA) | D77: Soziodemografischer Lastenausgleich (SLA) | E77: Compensation des charges dues à des facteurs socio-démographiques (CCS) | F77: Perequazione dell'aggravio sociodemografico (PAS) | G77: Socio-demographic cost compensation (SCC)
B78: =INDIRECT(ADDRESS(ROW(),$D$7+3)) -> Lastenausgleich Total | D78: Lastenausgleich Total | E78: Compensation des charges Total | F78: Totale compensazione degli oneri | G78: Total cost compensation
B79: =INDIRECT(ADDRESS(ROW(),$D$7+3)) -> Ordentliche Dotation 2026 | D79: ="Ordentliche Dotation " & $G$3-1 -> Ordentliche Dotation 2026 | E79: ="Dotation ordinaire " & $G$3-1 -> Dotation ordinaire 2026 | F79: ="Dotazione ordinaria " & $G$3-1 -> Dotazione ordinaria 2026 | G79: ="Ordinary endowment " & $G$3-1 -> Ordinary endowment 2026
B80: =INDIRECT(ADDRESS(ROW(),$D$7+3)) -> + Teuerung (LIK 04/2026) | D80: ="+ Teuerung (LIK " & TEXT(DOT!$D$10,"MM/JJJJ") & ")" -> + Teuerung (LIK 04/2026) | E80: ="+ renchérissement (IPC " & TEXT(DOT!$D$10,"MM/JJJJ") & ")" -> + renchérissement (IPC 04/2026) | F80: ="+ Rincaro (IPC " & TEXT(DOT!$D$10,"MM/JJJJ") & ")" -> + Rincaro (IPC 04/2026) | G80: ="+ Inflation (CPI " & TEXT(DOT!$D$10,"MM/JJJJ") & ")" -> + Inflation (CPI 04/2026)
B81: =INDIRECT(ADDRESS(ROW(),$D$7+3)) -> + Anpassung Dotation | D81: + Anpassung Dotation | E81: + adaptation de la dotation | F81: + adeguamento della dotazione | G81: + Endowment adjustment
B82: =INDIRECT(ADDRESS(ROW(),$D$7+3)) -> Ordentliche Dotation 2027 | D82: ="Ordentliche Dotation " & $G$3 -> Ordentliche Dotation 2027 | E82: ="Dotation ordinaire " & $G$3 -> Dotation ordinaire 2027 | F82: ="Dotazione ordinaria " & $G$3 -> Dotazione ordinaria 2027 | G82: ="Ordinary endowment " & $G$3 -> Ordinary endowment 2027
B83: =INDIRECT(ADDRESS(ROW(),$D$7+3)) -> Erhöhung gemäss Art. 9 Abs. 2bis FiLaG | D83: Erhöhung gemäss Art. 9 Abs. 2bis FiLaG | E83: Relèvement selon l'art. 9, al. 2bis, PFCC | F83: Aumento secondo l'art. 9 cpv. 2 LPFC | G83: Increase pursuant to Art. 9 para. 2bis FECCA
B84: =INDIRECT(ADDRESS(ROW(),$D$7+3)) -> Dotation 2027 | D84: ="Dotation " & $G$3 -> Dotation 2027 | E84: ="Dotation " & $G$3 -> Dotation 2027 | F84: ="Dotazione " & $G$3 -> Dotazione 2027 | G84: ="Endowment " & $G$3 -> Endowment 2027
B85: =INDIRECT(ADDRESS(ROW(),$D$7+3)) -> GLA 1 | D85: GLA 1 | E85: CCG 1 | F85: PAG 1 | G85: GCC 1
B86: =INDIRECT(ADDRESS(ROW(),$D$7+3)) -> GLA 2 | D86: GLA 2 | E86: CCG 2 | F86: PAG 2 | G86: GCC 2
B87: =INDIRECT(ADDRESS(ROW(),$D$7+3)) -> GLA 3 | D87: GLA 3 | E87: CCG 3 | F87: PAG 3 | G87: GCC 3
B88: =INDIRECT(ADDRESS(ROW(),$D$7+3)) -> GLA 4 | D88: GLA 4 | E88: CCG 4 | F88: PAG 4 | G88: GCC 4
B89: =INDIRECT(ADDRESS(ROW(),$D$7+3)) -> SLA A-C | D89: SLA A-C | E89: CCS A-C | F89: PAS A-C | G89: SCC A-C
B90: =INDIRECT(ADDRESS(ROW(),$D$7+3)) -> SLA F | D90: SLA F | E90: CCS F | F90: PAS F | G90: SCC F
B91: =INDIRECT(ADDRESS(ROW(),$D$7+3)) -> Teilausgleiche | D91: Teilausgleiche | E91: Péréquation partielle | F91: Perequazioni parziali | G91: Partial equalizations
B92: =INDIRECT(ADDRESS(ROW(),$D$7+3)) -> Anteil | D92: Anteil | E92: Part | F92: Quota | G92: Proportion
B93: =INDIRECT(ADDRESS(ROW(),$D$7+3)) -> GLA 1 (Siedlungshöhe) | C93: GLA-1 | D93: GLA 1 (Siedlungshöhe) | E93: CCG 1 (Altitude) | F93: PAG 1 (altitudine degli insediamenti) | G93: GCC 1 (Altitude)
B94: =INDIRECT(ADDRESS(ROW(),$D$7+3)) -> Indikator = Anteil der Wohnbevölkerung mit einer Wohnhöhe von über 800 m | D94: Indikator = Anteil der Wohnbevölkerung mit einer Wohnhöhe von über 800 m | E94: Indicateur = part de la population résidante habitant à plus de 800 m d'altitude | F94: Indicatore = percentuale della popolazione residente a oltre 800 metri s.l.m. | G94: Indicator = Proportion of inhabitants living at an altitude of over 800m
B95: =INDIRECT(ADDRESS(ROW(),$D$7+3)) -> GLA 2 (Steilheit des Geländes) | D95: GLA 2 (Steilheit des Geländes) | E95: CCG 2 (Déclivité du terrain) | F95: PAG 2 (declività del terreno) | G95: GCC 2 (Terrain steepness)
B96: =INDIRECT(ADDRESS(ROW(),$D$7+3)) -> Indikator = Medianhöhe der produktiven Fläche | D96: Indikator = Medianhöhe der produktiven Fläche | E96: Indicateur = altitude médiane des surfaces productives | F96: Indicatore = altitudine mediana della superficie produttiva | G96: Indicator = Median altitude of productive surface area
B97: =INDIRECT(ADDRESS(ROW(),$D$7+3)) -> GLA 3 (Siedlungsstruktur) | D97: GLA 3 (Siedlungsstruktur) | E97: CCG 3 (Structure de l’habitat) | F97: PAG 3 (struttura dell'insediamento) | G97: GCC 3 (Settlement structure)
B98: =INDIRECT(ADDRESS(ROW(),$D$7+3)) -> Indikator = Anteil der Wohnbevölkerung in Siedlungen mit weniger als 200 Einwohnern | D98: Indikator = Anteil der Wohnbevölkerung in Siedlungen mit weniger als 200 Einwohnern | E98: Indicateur = part des habitants en zones résidentielles de moins de 200 habitants | F98: Indicatore = percentuale della popolazione residente in insediamenti con meno di 200 abitanti | G98: Indicator = Proportion of population in residential areas with fewer than 200 inhabitants
B99: =INDIRECT(ADDRESS(ROW(),$D$7+3)) -> GLA 4 (Geringe Bevölkerungsdichte) | D99: GLA 4 (Geringe Bevölkerungsdichte) | E99: CCG 4 (Faible densité démographique) | F99: PAG 4 (bassa densità demografica) | G99: GCC 4 (Low population density)
B100: =INDIRECT(ADDRESS(ROW(),$D$7+3)) -> Indikator = Hektaren pro Einwohner | D100: Indikator = Hektaren pro Einwohner | E100: Indicateur = surface en hectares par habitant | F100: Indicatore = ettari pro capite | G100: Indicator = Hectares per capita
B101: =INDIRECT(ADDRESS(ROW(),$D$7+3)) -> Ständige Wohnbev. mit einer Wohnhöhe von über 800 m.ü.M. | D101: Ständige Wohnbev. mit einer Wohnhöhe von über 800 m.ü.M. | E101: Population résidante permanente à plus de 800 m d'altitude | F101: Popolazione residente in modo permanente a oltre 800 metri s.l.m. | G101: Permanent resident population living at over 800m
B102: =INDIRECT(ADDRESS(ROW(),$D$7+3)) -> Ständige Wohn- bevölkerung | D102: Ständige Wohn- bevölkerung | E102: Population résidante permanente | F102: Popolazione residente permanente | G102: Permanent resident population
B103: =INDIRECT(ADDRESS(ROW(),$D$7+3)) -> Indikator | D103: Indikator | E103: Indicateur | F103: Indicatore | G103: Indicator
B104: =INDIRECT(ADDRESS(ROW(),$D$7+3)) -> Lastenindex | D104: Lastenindex | E104: Indice des charges | F104: Indice di aggravio | G104: Burden index
B105: =INDIRECT(ADDRESS(ROW(),$D$7+3)) -> Massgebende Sonderlasten | D105: Massgebende Sonderlasten | E105: Charges spéciales déterminantes | F105: Oneri speciali determinanti | G105: Relevant excessive costs
... B117: =INDIRECT(ADDRESS(ROW(),$D$7+3)) -> O / O[Schweiz] * Dotation | D117: O / O[Schweiz] * Dotation | E117: O / O[Suisse] * dotation | F117: O / O[Svizzera] * dotazione | G117: O / O[Swi] * endowment
B118: =INDIRECT(ADDRESS(ROW(),$D$7+3)) -> Auszahlungen GLA 2027 | C118: GLA-2 | D118: ="Auszahlungen GLA " & $G$3 -> Auszahlungen GLA 2027 | E118: ="Montants reçus au titre des CCG " & $G$3 -> Montants reçus au titre des CCG 2027 | F118: ="Versamenti PAG " & $G$3 -> Versamenti PAG 2027 | G118: ="Outpayments GCC " & $G$3 -> Outpayments GCC 2027
B119: =INDIRECT(ADDRESS(ROW(),$D$7+3)) -> in CHF | D119: in CHF | E119: En francs | F119: in CHF | G119: in CHF
B120: =INDIRECT(ADDRESS(ROW(),$D$7+3)) -> GLA 1 | D120: GLA 1 | E120: CCG 1 | F120: PAG 1 | G120: GCC 1
B121: =INDIRECT(ADDRESS(ROW(),$D$7+3)) -> GLA 2 | D121: GLA 2 | E121: CCG 2 | F121: PAG 2 | G121: GCC 2
B122: =INDIRECT(ADDRESS(ROW(),$D$7+3)) -> GLA 3 | D122: GLA 3 | E122: CCG 3 | F122: PAG 3 | G122: GCC 3
B123: =INDIRECT(ADDRESS(ROW(),$D$7+3)) -> GLA 4 | D123: GLA 4 | E123: CCG 4 | F123: PAG 4 | G123: GCC 4
B124: =INDIRECT(ADDRESS(ROW(),$D$7+3)) -> Siedlungshöhe | D124: Siedlungshöhe | E124: Altitude | F124: Altitudine degli insediamenti | G124: Altitude
B125: =INDIRECT(ADDRESS(ROW(),$D$7+3)) -> Steilheit des Geländes | D125: Steilheit des Geländes | E125: Déclivité du terrain | F125: Declività del terreno | G125: Terrain steepness
B126: =INDIRECT(ADDRESS(ROW(),$D$7+3)) -> Siedlungsstruktur | D126: Siedlungsstruktur | E126: Structure de l’habitat | F126: Struttura dell'insediamento | G126: Settlement structure
B127: =INDIRECT(ADDRESS(ROW(),$D$7+3)) -> Geringe Bevölke- rungsdichte | D127: Geringe Bevölke- rungsdichte | E127: Faible densité démographique | F127: Bassa densità demografica | G127: Low population density
B128: =INDIRECT(ADDRESS(ROW(),$D$7+3)) -> GLA Total | D128: GLA Total | E128: CCG Total | F128: Totale PAG | G128: GCC total
B129: =INDIRECT(ADDRESS(ROW(),$D$7+3)) -> SLA A | C129: SLA.AC-1 | D129: SLA A | E129: CCS A | F129: PAS A | G129: SCC A
B130: =INDIRECT(ADDRESS(ROW(),$D$7+3)) -> Armut (Armutsindikator des BFS) | D130: Armut (Armutsindikator des BFS) | E130: Pauvreté (indicateur de pauvreté de l'OFS) | F130: Povertà (indicatore di povertà dell'UST) | G130: Poverty (FSO poverty indicator)
B131: =INDIRECT(ADDRESS(ROW(),$D$7+3)) -> SLA B | D131: SLA B | E131: CCS B | F131: PAS B | G131: SCC B
B132: =INDIRECT(ADDRESS(ROW(),$D$7+3)) -> Altersstruktur (Anteil der Bevölkerung über 80 Jahre an der Wohnbevölkerung) | D132: Altersstruktur (Anteil der Bevölkerung über 80 Jahre an der Wohnbevölkerung) | E132: Structure d’âge (part de la population résidante ayant plus de 80 ans) | F132: Struttura di età (percentuale di abitanti di età superiore agli 80 anni rispetto alla popolazione) | G132: Age structure (proportion of resident population aged over 80)
B133: =INDIRECT(ADDRESS(ROW(),$D$7+3)) -> SLA C | D133: SLA C | E133: CCS C | F133: PAS C | G133: SCC C
B134: =INDIRECT(ADDRESS(ROW(),$D$7+3)) -> Ausländerintegration (Anteil der massgebenden ausländischen Bevölkerung an der Wohnbevölkerung) | D134: Ausländerintegration (Anteil der massgebenden ausländischen Bevölkerung an der Wohnbevölkerung) | E134: Intégration des étrangers (part de la population étrangère déterminante) | F134: Integrazione degli stranieri (percentuale della popolazione straniera determinante rispetto alla popolazione residente) | G134: Immigrant integration (proportion of relevant foreign population in resident population)
B135: =INDIRECT(ADDRESS(ROW(),$D$7+3)) -> Indikator | D135: Indikator | E135: Indicateur | F135: Indicatore | G135: Indicator
B136: =INDIRECT(ADDRESS(ROW(),$D$7+3)) -> Ständige Wohn- bevölkerung | D136: Ständige Wohn- bevölkerung | E136: Population résidante permanente | F136: Popolazione residente permanente | G136: Permanent resident population
B137: =INDIRECT(ADDRESS(ROW(),$D$7+3)) -> Bevölkerung über 80 Jahre | D137: Bevölkerung über 80 Jahre | E137: Habitants de plus de 80 ans | F137: Abitanti di età superiore agli 80 anni | G137: Population aged over 80
B138: =INDIRECT(ADDRESS(ROW(),$D$7+3)) -> Massgebende ausländische Bevölkerung | D138: Massgebende ausländische Bevölkerung | E138: Population étrangère déterminante | F138: Popolazione straniera determinante | G138: Relevant foreign population
B139: =INDIRECT(ADDRESS(ROW(),$D$7+3)) -> SLA A-C 2027 | C139: SLA.AC-2 | D139: ="SLA A-C " & $G$3 -> SLA A-C 2027 | E139: ="CCS A-C " & $G$3 -> CCS A-C 2027 | F139: ="PAS A-C " & $G$3 -> PAS A-C 2027 | G139: ="SCC A-C " & $G$3 -> SCC A-C 2027
B140: =INDIRECT(ADDRESS(ROW(),$D$7+3)) -> Gewicht (ω) | D140: Gewicht (ω) | E140: Pondération (ω) | F140: Ponderazione (ω) | G140: Weighting (ω)
B141: =INDIRECT(ADDRESS(ROW(),$D$7+3)) -> Teilindikatoren | D141: Teilindikatoren | E141: Indicateurs partiels | F141: Indicatori parziali | G141: Partial indicators
B142: =INDIRECT(ADDRESS(ROW(),$D$7+3)) -> Standardisierte Teilindikatoren | D142: Standardisierte Teilindikatoren | E142: Indicateurs partiels standardisés | F142: Indicatori parziali standardizzati | G142: Standardized partial indicators
B143: =INDIRECT(ADDRESS(ROW(),$D$7+3)) -> Gewichtete standardisierte Teilindikatoren | D143: Gewichtete standardisierte Teilindikatoren | E143: Indicateurs partiels standardisés pondérés | F143: Indicatori parziali standardizzati ponderati | G143: Weighted standardized partial indicators
B144: =INDIRECT(ADDRESS(ROW(),$D$7+3)) -> Armut (SLA A) | D144: Armut (SLA A) | E144: Pauvreté (CCS A) | F144: Povertà (PAS A) | G144: Poverty (SCC A)
B145: =INDIRECT(ADDRESS(ROW(),$D$7+3)) -> Alters- struktur (SLA B) | D145: Alters- struktur (SLA B) | E145: Structure d’âge (CCS B) | F145: Struttura di età (PAS B) | G145: Age structure (SCC B)
B146: =INDIRECT(ADDRESS(ROW(),$D$7+3)) -> Ausländer- integration (SLA C) | D146: Ausländer- integration (SLA C) | E146: Intégration des étrangers (CCS C) | F146: Integrazione degli stranieri (PAS C) | G146: Immigrant integration (SCC C)
B147: =INDIRECT(ADDRESS(ROW(),$D$7+3)) -> Lasten- index | D147: Lasten- index | E147: Indice des charges | F147: Indice di aggravio | G147: Burden index
B148: =INDIRECT(ADDRESS(ROW(),$D$7+3)) -> Masszahl Lasten | D148: Masszahl Lasten | E148: Coefficient de charges | F148: Coefficiente degli oneri | G148: Burden measure
B149: =INDIRECT(ADDRESS(ROW(),$D$7+3)) -> Massgebende Sonderlasten | D149: Massgebende Sonderlasten | E149: Charges excessives déterminantes | F149: Oneri speciali determinanti | G149: Relevant excessive costs
B150: =INDIRECT(ADDRESS(ROW(),$D$7+3)) -> Auszahlung SLA A-C | D150: Auszahlung SLA A-C | E150: Montant reçu au titre des CCS A-C | F150: Versamento PAS A-C | G150: Outpayments SCC A-C
B151: =INDIRECT(ADDRESS(ROW(),$D$7+3)) -> L * Bev | D151: L * Bev | E151: L * pop. | F151: L * pop. | G151: L * Pop
...
